BEGIN:VCALENDAR
VERSION:2.0
PRODID:-//LearnTelehealth - ECPv6.15.13.1//NONSGML v1.0//EN
CALSCALE:GREGORIAN
METHOD:PUBLISH
X-WR-CALNAME:LearnTelehealth
X-ORIGINAL-URL:https://learntelehealth.org
X-WR-CALDESC:Events for LearnTelehealth
REFRESH-INTERVAL;VALUE=DURATION:PT1H
X-Robots-Tag:noindex
X-PUBLISHED-TTL:PT1H
BEGIN:VTIMEZONE
TZID:America/Chicago
BEGIN:DAYLIGHT
TZOFFSETFROM:-0600
TZOFFSETTO:-0500
TZNAME:CDT
DTSTART:20160313T080000
END:DAYLIGHT
BEGIN:STANDARD
TZOFFSETFROM:-0500
TZOFFSETTO:-0600
TZNAME:CST
DTSTART:20161106T070000
END:STANDARD
BEGIN:DAYLIGHT
TZOFFSETFROM:-0600
TZOFFSETTO:-0500
TZNAME:CDT
DTSTART:20170312T080000
END:DAYLIGHT
BEGIN:STANDARD
TZOFFSETFROM:-0500
TZOFFSETTO:-0600
TZNAME:CST
DTSTART:20171105T070000
END:STANDARD
BEGIN:DAYLIGHT
TZOFFSETFROM:-0600
TZOFFSETTO:-0500
TZNAME:CDT
DTSTART:20180311T080000
END:DAYLIGHT
BEGIN:STANDARD
TZOFFSETFROM:-0500
TZOFFSETTO:-0600
TZNAME:CST
DTSTART:20181104T070000
END:STANDARD
END:VTIMEZONE
BEGIN:VEVENT
DTSTART;VALUE=DATE:20170712
DTEND;VALUE=DATE:20170715
DTSTAMP:20260421T103142
CREATED:20170322T212623Z
LAST-MODIFIED:20170322T212623Z
UID:10000441-1499817600-1500076799@learntelehealth.org
SUMMARY:NRHA Rural Quality and Clinical Conference
DESCRIPTION:NRHA’s Rural Quality and Clinical Conference is an interactive event for rural clinicians and nurses practicing on the frontlines of rural health care\, quality and performance improvement organizations and coordinators\, and students. \nFor more information\, visit https://www.ruralhealthweb.org/events/event-details?eventId=22
URL:https://learntelehealth.org/event/nrha-rural-quality-clinical-conference/
LOCATION:Sheraton Nashville Downtown\, 623 Union St.\, Nashvile\, TN\, 37219\, United States
CATEGORIES:Meetings & Conferences
GEO:36.1630708;-86.7828888
X-APPLE-STRUCTURED-LOCATION;VALUE=URI;X-ADDRESS=Sheraton Nashville Downtown 623 Union St. Nashvile TN 37219 United States;X-APPLE-RADIUS=500;X-TITLE=623 Union St.:geo:-86.7828888,36.1630708
END:VEVENT
END:VCALENDAR