BEGIN:VCALENDAR
VERSION:2.0
PRODID:-//LearnTelehealth - ECPv6.15.13.1//NONSGML v1.0//EN
CALSCALE:GREGORIAN
METHOD:PUBLISH
X-WR-CALNAME:LearnTelehealth
X-ORIGINAL-URL:https://learntelehealth.org
X-WR-CALDESC:Events for LearnTelehealth
REFRESH-INTERVAL;VALUE=DURATION:PT1H
X-Robots-Tag:noindex
X-PUBLISHED-TTL:PT1H
BEGIN:VTIMEZONE
TZID:America/Chicago
BEGIN:DAYLIGHT
TZOFFSETFROM:-0600
TZOFFSETTO:-0500
TZNAME:CDT
DTSTART:20200308T080000
END:DAYLIGHT
BEGIN:STANDARD
TZOFFSETFROM:-0500
TZOFFSETTO:-0600
TZNAME:CST
DTSTART:20201101T070000
END:STANDARD
BEGIN:DAYLIGHT
TZOFFSETFROM:-0600
TZOFFSETTO:-0500
TZNAME:CDT
DTSTART:20210314T080000
END:DAYLIGHT
BEGIN:STANDARD
TZOFFSETFROM:-0500
TZOFFSETTO:-0600
TZNAME:CST
DTSTART:20211107T070000
END:STANDARD
BEGIN:DAYLIGHT
TZOFFSETFROM:-0600
TZOFFSETTO:-0500
TZNAME:CDT
DTSTART:20220313T080000
END:DAYLIGHT
BEGIN:STANDARD
TZOFFSETFROM:-0500
TZOFFSETTO:-0600
TZNAME:CST
DTSTART:20221106T070000
END:STANDARD
END:VTIMEZONE
BEGIN:VEVENT
DTSTART;TZID=America/Chicago:20210811T140000
DTEND;TZID=America/Chicago:20210811T150000
DTSTAMP:20260424T204031
CREATED:20210730T225822Z
LAST-MODIFIED:20210730T225822Z
UID:10000618-1628690400-1628694000@learntelehealth.org
SUMMARY:USAC: Lifeline 101 for Consumer Advocates
DESCRIPTION:During this webinar\, USAC’s Lifeline team will provide an overview of the Lifeline program. This session is designed for consumer advocates in all states\, territories\, and the District of Columbia. \nYou can access the recordings and slide decks from previous webinars on USAC’s Lifeline Learn: Webinars webpage. \n  \n 
URL:https://learntelehealth.org/event/usac-lifeline-101-for-consumer-advocates/
LOCATION:Online
CATEGORIES:Webinar
END:VEVENT
END:VCALENDAR