BEGIN:VCALENDAR
VERSION:2.0
PRODID:-//LearnTelehealth - ECPv6.15.13.1//NONSGML v1.0//EN
CALSCALE:GREGORIAN
METHOD:PUBLISH
X-WR-CALNAME:LearnTelehealth
X-ORIGINAL-URL:https://learntelehealth.org
X-WR-CALDESC:Events for LearnTelehealth
REFRESH-INTERVAL;VALUE=DURATION:PT1H
X-Robots-Tag:noindex
X-PUBLISHED-TTL:PT1H
BEGIN:VTIMEZONE
TZID:America/Chicago
BEGIN:DAYLIGHT
TZOFFSETFROM:-0600
TZOFFSETTO:-0500
TZNAME:CDT
DTSTART:20150308T080000
END:DAYLIGHT
BEGIN:STANDARD
TZOFFSETFROM:-0500
TZOFFSETTO:-0600
TZNAME:CST
DTSTART:20151101T070000
END:STANDARD
BEGIN:DAYLIGHT
TZOFFSETFROM:-0600
TZOFFSETTO:-0500
TZNAME:CDT
DTSTART:20160313T080000
END:DAYLIGHT
BEGIN:STANDARD
TZOFFSETFROM:-0500
TZOFFSETTO:-0600
TZNAME:CST
DTSTART:20161106T070000
END:STANDARD
BEGIN:DAYLIGHT
TZOFFSETFROM:-0600
TZOFFSETTO:-0500
TZNAME:CDT
DTSTART:20170312T080000
END:DAYLIGHT
BEGIN:STANDARD
TZOFFSETFROM:-0500
TZOFFSETTO:-0600
TZNAME:CST
DTSTART:20171105T070000
END:STANDARD
BEGIN:DAYLIGHT
TZOFFSETFROM:-0600
TZOFFSETTO:-0500
TZNAME:CDT
DTSTART:20180311T080000
END:DAYLIGHT
BEGIN:STANDARD
TZOFFSETFROM:-0500
TZOFFSETTO:-0600
TZNAME:CST
DTSTART:20181104T070000
END:STANDARD
BEGIN:DAYLIGHT
TZOFFSETFROM:-0600
TZOFFSETTO:-0500
TZNAME:CDT
DTSTART:20190310T080000
END:DAYLIGHT
BEGIN:STANDARD
TZOFFSETFROM:-0500
TZOFFSETTO:-0600
TZNAME:CST
DTSTART:20191103T070000
END:STANDARD
BEGIN:DAYLIGHT
TZOFFSETFROM:-0600
TZOFFSETTO:-0500
TZNAME:CDT
DTSTART:20200308T080000
END:DAYLIGHT
BEGIN:STANDARD
TZOFFSETFROM:-0500
TZOFFSETTO:-0600
TZNAME:CST
DTSTART:20201101T070000
END:STANDARD
BEGIN:DAYLIGHT
TZOFFSETFROM:-0600
TZOFFSETTO:-0500
TZNAME:CDT
DTSTART:20210314T080000
END:DAYLIGHT
BEGIN:STANDARD
TZOFFSETFROM:-0500
TZOFFSETTO:-0600
TZNAME:CST
DTSTART:20211107T070000
END:STANDARD
BEGIN:DAYLIGHT
TZOFFSETFROM:-0600
TZOFFSETTO:-0500
TZNAME:CDT
DTSTART:20220313T080000
END:DAYLIGHT
BEGIN:STANDARD
TZOFFSETFROM:-0500
TZOFFSETTO:-0600
TZNAME:CST
DTSTART:20221106T070000
END:STANDARD
BEGIN:DAYLIGHT
TZOFFSETFROM:-0600
TZOFFSETTO:-0500
TZNAME:CDT
DTSTART:20230312T080000
END:DAYLIGHT
BEGIN:STANDARD
TZOFFSETFROM:-0500
TZOFFSETTO:-0600
TZNAME:CST
DTSTART:20231105T070000
END:STANDARD
BEGIN:DAYLIGHT
TZOFFSETFROM:-0600
TZOFFSETTO:-0500
TZNAME:CDT
DTSTART:20240310T080000
END:DAYLIGHT
BEGIN:STANDARD
TZOFFSETFROM:-0500
TZOFFSETTO:-0600
TZNAME:CST
DTSTART:20241103T070000
END:STANDARD
BEGIN:DAYLIGHT
TZOFFSETFROM:-0600
TZOFFSETTO:-0500
TZNAME:CDT
DTSTART:20250309T080000
END:DAYLIGHT
BEGIN:STANDARD
TZOFFSETFROM:-0500
TZOFFSETTO:-0600
TZNAME:CST
DTSTART:20251102T070000
END:STANDARD
BEGIN:DAYLIGHT
TZOFFSETFROM:-0600
TZOFFSETTO:-0500
TZNAME:CDT
DTSTART:20260308T080000
END:DAYLIGHT
BEGIN:STANDARD
TZOFFSETFROM:-0500
TZOFFSETTO:-0600
TZNAME:CST
DTSTART:20261101T070000
END:STANDARD
END:VTIMEZONE
BEGIN:VEVENT
DTSTART;TZID=America/Chicago:20251231T120000
DTEND;TZID=America/Chicago:20251231T170000
DTSTAMP:20260424T155924
CREATED:20251209T141335Z
LAST-MODIFIED:20251209T141335Z
UID:10001696-1767182400-1767200400@learntelehealth.org
SUMMARY:On Demand | 2024 Mississippi Rural Health Clinic Conference: Virtual
DESCRIPTION:The Rural Health Clinic Conference is a special meeting designed specifically for the rural health clinic members of the Mississippi Rural Health Association. Attendees will hear from industry experts\, take part in interactive workshops\, and network with their peers. \nThis conference will feature multiple plenary sessions on billing/coding\, compliance\, operation management\, patient experience\, marketing\, and tips and strategies for improving care.
URL:https://learntelehealth.org/event/on-demand-2024-mississippi-rural-health-clinic-conference-virtual/
CATEGORIES:Webinar
ATTACH;FMTTYPE=image/png:https://learntelehealth.org/wp-content/uploads/2025/09/Screenshot-2025-09-30-082837-1.png
END:VEVENT
BEGIN:VEVENT
DTSTART;VALUE=DATE:20250516
DTEND;VALUE=DATE:20250517
DTSTAMP:20260424T155924
CREATED:20250416T174813Z
LAST-MODIFIED:20250430T164447Z
UID:10001378-1747353600-1747439999@learntelehealth.org
SUMMARY:2025 Mississippi Rural Health Clinic Conference
DESCRIPTION:The Mississippi Rural Health Association proudly presents the 2025 Rural Health Clinic Conference\, an exclusive online professional development opportunity tailored specifically for rural health clinic members across the state. \nJoin industry leaders and peers for this comprehensive virtual educational event featuring expert-led sessions on essential operational subject matter. \nParticipants will benefit from engaging online plenary sessions\, interactive virtual workshops\, and valuable digital networking opportunities designed to address the unique challenges facing rural healthcare providers. \nThis conference offers practical solutions and innovative strategies to optimize your clinic’s performance and patient outcomes—all accessible from the convenience of your location. \nView Agenda \nRegister Online
URL:https://learntelehealth.org/event/2025-mississippi-rural-health-clinic-conference/
CATEGORIES:Webinar
ATTACH;FMTTYPE=image/png:https://learntelehealth.org/wp-content/uploads/2025/04/Screenshot-2025-04-14-at-2.59.14_PM.png
END:VEVENT
BEGIN:VEVENT
DTSTART;TZID=America/Chicago:20250306T130000
DTEND;TZID=America/Chicago:20250306T140000
DTSTAMP:20260424T155924
CREATED:20250224T222042Z
LAST-MODIFIED:20250224T222042Z
UID:10001364-1741266000-1741269600@learntelehealth.org
SUMMARY:Unlock Community Insights: Healthcare\, Disability\, and Business Data Tools from the Census Bureau - Mississippi
DESCRIPTION:Join the U.S. Census Bureau’s Data Dissemination and Training Branch for a free webinar exploring key insights into Mississippi’s healthcare coverage\, disability prevalence\, and business landscapes. Learn how to access and utilize Census data to understand community needs\, identify market opportunities\, and inform decision-making. Learn how to map this valuable data and gain a deeper understanding of your community. \nWe’ll cover topics including \n\nHealthcare coverage rates by geography\nAreas with identified disability populations\nThe distribution of healthcare businesses\nintroduction to the Census Business Builder tool.
URL:https://learntelehealth.org/event/unlock-community-insights-healthcare-disability-and-business-data-tools-from-the-census-bureau-mississippi/
CATEGORIES:Webinar
ATTACH;FMTTYPE=image/jpeg:https://learntelehealth.org/wp-content/uploads/2016/02/MSRH-logo.jpg
END:VEVENT
BEGIN:VEVENT
DTSTART;VALUE=DATE:20241120
DTEND;VALUE=DATE:20241123
DTSTAMP:20260424T155924
CREATED:20240923T193642Z
LAST-MODIFIED:20241112T221211Z
UID:10001282-1732060800-1732319999@learntelehealth.org
SUMMARY:29th Annual Mississippi Rural Health Conference
DESCRIPTION:About the Conference\nThe Mississippi Rural Health Annual Conference is the state’s largest rural health conference. We are pleased to announce this year’s conference will be Returning to the Vicksburg Convention Center.  \nParticipants may choose to attend in-person or online. \nNot only will we have the best education that you can find\, but we will also have multiple elected officials in attendance\, awards presented for hospital quality and leadership\, a recognition banquet for our rural health fellows\, and the Mississippi Rural Physician Scholars’ poster contest. You’ll find great food\, networking\, education\, leadership\, and so much more. \nIncluded Sessions\n\nDriving Increased Revenue Through Billable Care Management Programs\nReducing Challenges and Barriers for Patients with Pre-diabetes and Diabetes\nVaping and Our Youth: Understanding and Addressing the Teenage Epidemic\nNavigating the Financial Frontier: Transforming Rural Healthcare\, One Community at a Time\nAddressing Hospital Financial Headwinds Through Clinical Revenue Cycle Redesign\nStruggles and Opportunities of Mississippi’s Critical Access Hospitals\n Addressing Rural Food Insecurity Through Community Lead Program Design: Lessons from the MS Delta \n\nClick here to view the full agenda
URL:https://learntelehealth.org/event/29th-annual-mississippi-rural-health-conference/
LOCATION:VICKSBURG CONVENTION CENTER\, 1600 DR. BRIGGS HOPSON BLVD\, Vicksburg\, MS\, 39180\, United States
CATEGORIES:Meetings & Conferences
ATTACH;FMTTYPE=image/png:https://learntelehealth.org/wp-content/uploads/2024/03/MRHA.png
END:VEVENT
BEGIN:VEVENT
DTSTART;TZID=America/Chicago:20241001T130000
DTEND;TZID=America/Chicago:20241001T140000
DTSTAMP:20260424T155924
CREATED:20240923T204706Z
LAST-MODIFIED:20240923T204706Z
UID:10001283-1727787600-1727791200@learntelehealth.org
SUMMARY:Webinar: Payor Contracting Strategy and Revenue Cycle Best Practices
DESCRIPTION:Presenter\nBruce Shepard\, Chief Revenue Officer\, Payrhealth \nRural hospitals today face significant cash flow and revenue cycle challenges\, primarily due to a combination of low patient volumes\, high rates of uninsured or underinsured patients\, and reliance on government payers along with shrinking yields and margin on commercial payor contracts. These factors lead to tighter margins\, making it difficult for rural hospitals to maintain financial stability. Additionally\, many rural hospitals struggle with outdated billing systems\, limited staff resources\, and complexities in navigating regulatory requirements\, all of which can result in delays in billing and payment collections. The cumulative effect of these challenges threatens the financial viability of rural hospitals\, impacting their ability to provide essential healthcare services to their communities. \nWebinar Objectives \n\nOverview of key components of hospital revenue cycle process\nReview of top trends and challenges impacting rural hospital’s cash flow\nActionable strategies for rural hospitals to improve their cash flow\nShowcase of PayrHealth’s solution and successes\nHow to create a strategy for your payor contract negotiations\nHow to use contract negotiations to address your hospital’s biggest challenges with payors.\nHow to get past “NO” in Payor negotiations.\n\nRegistration\n\nMember\nNon-Member – $25.00
URL:https://learntelehealth.org/event/webinar-payor-contracting-strategy-and-revenue-cycle-best-practices/
LOCATION:VIRTUAL\, United States
CATEGORIES:Webinar
ATTACH;FMTTYPE=image/png:https://learntelehealth.org/wp-content/uploads/2024/03/MRHA.png
END:VEVENT
BEGIN:VEVENT
DTSTART;TZID=America/Chicago:20240517T120000
DTEND;TZID=America/Chicago:20240517T150000
DTSTAMP:20260424T155924
CREATED:20240503T135042Z
LAST-MODIFIED:20240503T161403Z
UID:10000864-1715947200-1715958000@learntelehealth.org
SUMMARY:11th Annual Mississippi Rural Health Clinic Conference (Virtual)
DESCRIPTION:The Rural Health Clinic Conference is a special meeting designed specifically for the rural health clinic members of the Mississippi Rural Health Association. Attendees will hear from industry experts\, take part in interactive workshops\, and network with their peers. \nThis conference will feature multiple plenary sessions on billing/coding\, compliance\, operation management\, patient experience\, marketing\, and tips and strategies for improving care. \n  \n\n\n\nRegistration rates are a low $75 for Members and $100 for Non-Members
URL:https://learntelehealth.org/event/11th-annual-mississippi-rural-health-clinic-conference-virtual/2024-05-17/
LOCATION:Webinar
CATEGORIES:Webinar
ATTACH;FMTTYPE=image/jpeg:https://learntelehealth.org/wp-content/uploads/2024/02/MSRH-logo-e1710190118550.jpg
END:VEVENT
BEGIN:VEVENT
DTSTART;TZID=America/Chicago:20240516T120000
DTEND;TZID=America/Chicago:20240516T150000
DTSTAMP:20260424T155924
CREATED:20240503T135042Z
LAST-MODIFIED:20240503T161403Z
UID:10000863-1715860800-1715871600@learntelehealth.org
SUMMARY:11th Annual Mississippi Rural Health Clinic Conference (Virtual)
DESCRIPTION:The Rural Health Clinic Conference is a special meeting designed specifically for the rural health clinic members of the Mississippi Rural Health Association. Attendees will hear from industry experts\, take part in interactive workshops\, and network with their peers. \nThis conference will feature multiple plenary sessions on billing/coding\, compliance\, operation management\, patient experience\, marketing\, and tips and strategies for improving care. \n  \n\n\n\nRegistration rates are a low $75 for Members and $100 for Non-Members
URL:https://learntelehealth.org/event/11th-annual-mississippi-rural-health-clinic-conference-virtual/2024-05-16/
LOCATION:Webinar
CATEGORIES:Webinar
ATTACH;FMTTYPE=image/jpeg:https://learntelehealth.org/wp-content/uploads/2024/02/MSRH-logo-e1710190118550.jpg
END:VEVENT
BEGIN:VEVENT
DTSTART;TZID=America/Chicago:20240327T130000
DTEND;TZID=America/Chicago:20240327T140000
DTSTAMP:20260424T155924
CREATED:20240311T204435Z
LAST-MODIFIED:20240311T211523Z
UID:10000854-1711544400-1711548000@learntelehealth.org
SUMMARY:MRHA: Credentialing & Payer Enrollment
DESCRIPTION:Hosted by the Mississippi Rural Health Association\, participants will get an overview of managing payer relationships\, contracting\, and credentialing. \nKey Objectives\n\nDefining Credentialing vs Payer Enrollment\nDocuments needed for Credentialing & Payer Enrollment\nCAQH Overview\nI&A/PECOS Overview\nMCC Overview (for MN providers)\nTracking Methods – excel vs online platforms\nModio Overview\nCompleting Applications\nBackground Checks\, Validating Licensure\nFollow-up Best Practices\n\nWho Should Attend?\n\nCredentialing Department\nRevenue Cycle Directors\nC-Suite\nPractice Administrators\nOperations Managers\n\n  \nPresented by:  \nAmy Fajardo\, MedCycleSolutions
URL:https://learntelehealth.org/event/mrha-credentialing-payer-enrollment/
LOCATION:Webinar
CATEGORIES:Webinar
ATTACH;FMTTYPE=image/png:https://learntelehealth.org/wp-content/uploads/2024/03/MRHA.png
END:VEVENT
BEGIN:VEVENT
DTSTART;TZID=America/Chicago:20170224T090000
DTEND;TZID=America/Chicago:20170224T150000
DTSTAMP:20260424T155924
CREATED:20170213T225904Z
LAST-MODIFIED:20170213T225904Z
UID:10000413-1487926800-1487948400@learntelehealth.org
SUMMARY:Rural Hospital + RHC Workshop: Practicing Lifestyle Medicine in the Rural Health Clinic
DESCRIPTION:Practicing Lifestyle Medicine in the Rural Health Clinic \nPresenter: Getty Israel\, MPH\, Public Health Practitioner and Author\, When Poor Was Healthy \nBy 2020\, two-thirds of all chronic disease worldwide will be the result of lifestyle choices. Currently\, the leading causes of morbidity and mortality in Mississippi are lifestyle related: poor diet\, lack of exercise\, obesity\, tobacco use\, and overconsumption of alcohol. Yet\, most medical providers in the State fail to prescribe any more than a prescription drug.  The Mississippi medical provider can play a crucial role in assisting patients that have hypertension\, diabetes\, or heart disease or who are at risk of developing these conditions to prevent and in many instances reverse these conditions by encouraging and directing them to make lifestyle changes that will reduce the risk of developing a condition or worsening it. \nThe all-day seminar is designed to change your competence and performance-in-practice by increasing your knowledge of Lifestyle Medicine and helping you develop strategies to incorporate it into patient care\, providing the newest science of nutrition\, physical activity\, and management skills. The course will focus on effectively counseling your patients to improve their overall lifestyle\, including stress management\, diet\, and exercise. Participants who complete the seminar will receive a certificate of completion from Pathway to Wellness\, LLC. \nReasons to Attend: \n\nIncorporating lifestyle medicine into your current practice\nLeveraging lifestyle medicine to prevent and treat type 2 diabetes\, hypertension\, high cholesterol\, depression\, anxiety\, osteoporosis\, and certain cancers\nCurrent and Coming Reimbursement Opportunities\nThe strategies that produce the best results for weight-loss counseling\nGuidance to prescribe exercise and perform risk assessments\nHealth coaching (why it’s important to therapy)\nClinician self-care: Being a health role model\nGetting patients to make healthy changes\nImproving patient communication and motivational interviewing\nBuilding an effective lifestyle medicine team\nEngaging resistant patients\nEffectively prescribing exercise or increased physical activity\n\nMore information and online registration: Rural Hospital + RHC Workshop: Practicing Lifestyle Medicine in the Rural Health Clinic
URL:https://learntelehealth.org/event/rural-hospital-rhc-workshop-practicing-lifestyle-medicine-rural-health-clinic/
LOCATION:The Mississippi Rural Health Association\, 31 Woodgreen Place\, Madison\, MS\, 39110\, United States
CATEGORIES:Meetings & Conferences
GEO:32.4724429;-90.1361553
X-APPLE-STRUCTURED-LOCATION;VALUE=URI;X-ADDRESS=The Mississippi Rural Health Association 31 Woodgreen Place Madison MS 39110 United States;X-APPLE-RADIUS=500;X-TITLE=31 Woodgreen Place:geo:-90.1361553,32.4724429
END:VEVENT
BEGIN:VEVENT
DTSTART;TZID=America/Chicago:20160506T080000
DTEND;TZID=America/Chicago:20160506T170000
DTSTAMP:20260424T155924
CREATED:20160212T204644Z
LAST-MODIFIED:20240224T051618Z
UID:10000389-1462521600-1462554000@learntelehealth.org
SUMMARY:MS: 3rd Annual Rural Health Clinic Conference
DESCRIPTION:You are invited to join Association members as the Mississippi Rural Health Association hosts the 3rd Annual Rural Health Clinic Conference on Friday\, May 6\, 2016 at the luxurious Jackson Marriott\, located at 200 E. Amite Street in downtown Jackson. \nThis conference is built specifically for Mississippi’s rural health clinics.   \nCEUs are being sought for 7.0 hours of nursing\, 7.0 hours of AAPC\, 7.0 hours of ACHE \, and 7.0 hours of Nursing home admin.  \nThe Mississippi Rural Health Association is authorized to award 7.0 hours of pre-approved ACHE Qualified Education credit for this program toward advancement\, or recertification\, in the American College of Healthcare Executives.  Participants in this program wishing to have the continuing education hours applied toward ACHE Qualified Education credit should indicate their attendance when submitting an application to the American College of Healthcare Executives for advancement or recertification. \nRegistration is $125 per member and $150 per non member (includes a membership registration).  \nPlease contact MRHA anytime at 601.898.3001 or kate.cooley@mississippirural.org for questions or for additional information.
URL:https://learntelehealth.org/event/ms-3rd-annual-rural-health-clinic-conference/
LOCATION:Jackson Marriott\, 200 E. Amite Street\, Jackson\, MS\, United States
ATTACH;FMTTYPE=image/jpeg:https://learntelehealth.org/wp-content/uploads/2024/02/MSRH-logo-e1710190118550.jpg
GEO:32.3014796;-90.1852075
X-APPLE-STRUCTURED-LOCATION;VALUE=URI;X-ADDRESS=Jackson Marriott 200 E. Amite Street Jackson MS United States;X-APPLE-RADIUS=500;X-TITLE=200 E. Amite Street:geo:-90.1852075,32.3014796
END:VEVENT
END:VCALENDAR