BEGIN:VCALENDAR
VERSION:2.0
PRODID:-//LearnTelehealth - ECPv6.15.13.1//NONSGML v1.0//EN
CALSCALE:GREGORIAN
METHOD:PUBLISH
X-ORIGINAL-URL:https://learntelehealth.org
X-WR-CALDESC:Events for LearnTelehealth
REFRESH-INTERVAL;VALUE=DURATION:PT1H
X-Robots-Tag:noindex
X-PUBLISHED-TTL:PT1H
BEGIN:VTIMEZONE
TZID:America/Chicago
BEGIN:DAYLIGHT
TZOFFSETFROM:-0600
TZOFFSETTO:-0500
TZNAME:CDT
DTSTART:20240310T080000
END:DAYLIGHT
BEGIN:STANDARD
TZOFFSETFROM:-0500
TZOFFSETTO:-0600
TZNAME:CST
DTSTART:20241103T070000
END:STANDARD
BEGIN:DAYLIGHT
TZOFFSETFROM:-0600
TZOFFSETTO:-0500
TZNAME:CDT
DTSTART:20250309T080000
END:DAYLIGHT
BEGIN:STANDARD
TZOFFSETFROM:-0500
TZOFFSETTO:-0600
TZNAME:CST
DTSTART:20251102T070000
END:STANDARD
BEGIN:DAYLIGHT
TZOFFSETFROM:-0600
TZOFFSETTO:-0500
TZNAME:CDT
DTSTART:20260308T080000
END:DAYLIGHT
BEGIN:STANDARD
TZOFFSETFROM:-0500
TZOFFSETTO:-0600
TZNAME:CST
DTSTART:20261101T070000
END:STANDARD
END:VTIMEZONE
BEGIN:VEVENT
DTSTART;TZID=America/Chicago:20250514T120000
DTEND;TZID=America/Chicago:20250514T130000
DTSTAMP:20260422T051254
CREATED:20250501T172904Z
LAST-MODIFIED:20250501T173040Z
UID:10001382-1747224000-1747227600@learntelehealth.org
SUMMARY:Critical Telehealth Updates – The Status of Congress’s Financial Package and Telehealth Policy
DESCRIPTION:Numerous telehealth flexibilities created during the COVID-19 Public Health Emergency have been extended year after year through federal financial packages and CMS policy. The end of 2024 brought significant uncertainty\, as many provisions of telehealth coverage for Medicare came down to the wire in a last minute\, 90-day extension just before they were set to expire on January 1. With the end of that 90-day extension passing on April 1\, 2025\, this session will address Congressional action that affects Medicare coverage of telehealth in 2025 and beyond.
URL:https://learntelehealth.org/event/critical-telehealth-updates-the-status-of-congresss-financial-package-and-telehealth-policy-2/
CATEGORIES:Webinar
ATTACH;FMTTYPE=image/png:https://learntelehealth.org/wp-content/uploads/2018/09/Heartland-Logo-Vertical.png
END:VEVENT
END:VCALENDAR