BEGIN:VCALENDAR
VERSION:2.0
PRODID:-//LearnTelehealth - ECPv6.15.13.1//NONSGML v1.0//EN
CALSCALE:GREGORIAN
METHOD:PUBLISH
X-WR-CALNAME:LearnTelehealth
X-ORIGINAL-URL:https://learntelehealth.org
X-WR-CALDESC:Events for LearnTelehealth
REFRESH-INTERVAL;VALUE=DURATION:PT1H
X-Robots-Tag:noindex
X-PUBLISHED-TTL:PT1H
BEGIN:VTIMEZONE
TZID:America/Chicago
BEGIN:DAYLIGHT
TZOFFSETFROM:-0600
TZOFFSETTO:-0500
TZNAME:CDT
DTSTART:20240310T080000
END:DAYLIGHT
BEGIN:STANDARD
TZOFFSETFROM:-0500
TZOFFSETTO:-0600
TZNAME:CST
DTSTART:20241103T070000
END:STANDARD
BEGIN:DAYLIGHT
TZOFFSETFROM:-0600
TZOFFSETTO:-0500
TZNAME:CDT
DTSTART:20250309T080000
END:DAYLIGHT
BEGIN:STANDARD
TZOFFSETFROM:-0500
TZOFFSETTO:-0600
TZNAME:CST
DTSTART:20251102T070000
END:STANDARD
BEGIN:DAYLIGHT
TZOFFSETFROM:-0600
TZOFFSETTO:-0500
TZNAME:CDT
DTSTART:20260308T080000
END:DAYLIGHT
BEGIN:STANDARD
TZOFFSETFROM:-0500
TZOFFSETTO:-0600
TZNAME:CST
DTSTART:20261101T070000
END:STANDARD
END:VTIMEZONE
BEGIN:VEVENT
DTSTART;TZID=America/Chicago:20251120T000000
DTEND;TZID=America/Chicago:20251120T233000
DTSTAMP:20260425T212940
CREATED:20250711T133614Z
LAST-MODIFIED:20250711T133614Z
UID:10001398-1763596800-1763681400@learntelehealth.org
SUMMARY:National Rural Health Day
DESCRIPTION:The South Central Telehealth Resource Center is proud to join communities across America in celebration of National Rural Health Day (NRHD) on November 20\, 2025. The National Organization of State Offices of Rural Health (NOSORH) and rural-focused organizations throughout the United States set aside the third Thursday of November to recognize NRHD. This annual event is an opportunity to celebrate the “Power of Rural” and honor the individuals and organizations dedicated to addressing the unique healthcare needs of nearly 61 million people living in rural America.
URL:https://learntelehealth.org/event/national-rural-health-day/
CATEGORIES:Important Date
ATTACH;FMTTYPE=image/png:https://learntelehealth.org/wp-content/uploads/2025/07/National-Rural-Health-Day-.png
END:VEVENT
END:VCALENDAR