BEGIN:VCALENDAR
VERSION:2.0
PRODID:-//LearnTelehealth - ECPv6.15.13.1//NONSGML v1.0//EN
CALSCALE:GREGORIAN
METHOD:PUBLISH
X-WR-CALNAME:LearnTelehealth
X-ORIGINAL-URL:https://learntelehealth.org
X-WR-CALDESC:Events for LearnTelehealth
REFRESH-INTERVAL;VALUE=DURATION:PT1H
X-Robots-Tag:noindex
X-PUBLISHED-TTL:PT1H
BEGIN:VTIMEZONE
TZID:America/Chicago
BEGIN:DAYLIGHT
TZOFFSETFROM:-0600
TZOFFSETTO:-0500
TZNAME:CDT
DTSTART:20240310T080000
END:DAYLIGHT
BEGIN:STANDARD
TZOFFSETFROM:-0500
TZOFFSETTO:-0600
TZNAME:CST
DTSTART:20241103T070000
END:STANDARD
BEGIN:DAYLIGHT
TZOFFSETFROM:-0600
TZOFFSETTO:-0500
TZNAME:CDT
DTSTART:20250309T080000
END:DAYLIGHT
BEGIN:STANDARD
TZOFFSETFROM:-0500
TZOFFSETTO:-0600
TZNAME:CST
DTSTART:20251102T070000
END:STANDARD
BEGIN:DAYLIGHT
TZOFFSETFROM:-0600
TZOFFSETTO:-0500
TZNAME:CDT
DTSTART:20260308T080000
END:DAYLIGHT
BEGIN:STANDARD
TZOFFSETFROM:-0500
TZOFFSETTO:-0600
TZNAME:CST
DTSTART:20261101T070000
END:STANDARD
END:VTIMEZONE
BEGIN:VEVENT
DTSTART;TZID=America/Chicago:20250909T080000
DTEND;TZID=America/Chicago:20250911T170000
DTSTAMP:20260424T095422
CREATED:20250711T140540Z
LAST-MODIFIED:20250711T140540Z
UID:10001399-1757404800-1757610000@learntelehealth.org
SUMMARY:NOSORH Annual Meeting
DESCRIPTION:This in-person event offers two and a half days of leadership development\, education\, partnerships\, recognition\, and networking. This event is a unique opportunity to connect with all 50 State Offices of Rural Health\, federal partners\, and rural stakeholders from across the country.
URL:https://learntelehealth.org/event/nosorh-annual-meeting/
CATEGORIES:Meetings & Conferences,Networking Event
ATTACH;FMTTYPE=image/png:https://learntelehealth.org/wp-content/uploads/2025/07/NOSORH-Annual-Meeting-2025.png
END:VEVENT
END:VCALENDAR