BEGIN:VCALENDAR
VERSION:2.0
PRODID:-//LearnTelehealth - ECPv6.15.13.1//NONSGML v1.0//EN
CALSCALE:GREGORIAN
METHOD:PUBLISH
X-ORIGINAL-URL:https://learntelehealth.org
X-WR-CALDESC:Events for LearnTelehealth
REFRESH-INTERVAL;VALUE=DURATION:PT1H
X-Robots-Tag:noindex
X-PUBLISHED-TTL:PT1H
BEGIN:VTIMEZONE
TZID:America/Chicago
BEGIN:DAYLIGHT
TZOFFSETFROM:-0600
TZOFFSETTO:-0500
TZNAME:CDT
DTSTART:20240310T080000
END:DAYLIGHT
BEGIN:STANDARD
TZOFFSETFROM:-0500
TZOFFSETTO:-0600
TZNAME:CST
DTSTART:20241103T070000
END:STANDARD
BEGIN:DAYLIGHT
TZOFFSETFROM:-0600
TZOFFSETTO:-0500
TZNAME:CDT
DTSTART:20250309T080000
END:DAYLIGHT
BEGIN:STANDARD
TZOFFSETFROM:-0500
TZOFFSETTO:-0600
TZNAME:CST
DTSTART:20251102T070000
END:STANDARD
BEGIN:DAYLIGHT
TZOFFSETFROM:-0600
TZOFFSETTO:-0500
TZNAME:CDT
DTSTART:20260308T080000
END:DAYLIGHT
BEGIN:STANDARD
TZOFFSETFROM:-0500
TZOFFSETTO:-0600
TZNAME:CST
DTSTART:20261101T070000
END:STANDARD
END:VTIMEZONE
BEGIN:VEVENT
DTSTART;TZID=America/Chicago:20250711T120000
DTEND;TZID=America/Chicago:20250711T130000
DTSTAMP:20260424T202039
CREATED:20250711T141339Z
LAST-MODIFIED:20250711T141339Z
UID:10001400-1752235200-1752238800@learntelehealth.org
SUMMARY:State of the Healthcare Industry: Market Updates for Rural Strategy
DESCRIPTION:NOSORH and Stroudwater Associates invite you to our quarterly market update. Stay informed about the latest healthcare trends and strategize on how to maintain essential services in rural communities. By the end of this session\, participants will be able to: \n1. Understand new regulations and laws that have occurred during the last 90 days \n2. Describe the current market dynamics of the healthcare industry \n3. Evaluate the effects of these trends on rural providers \n4. Apply this understanding to their organization
URL:https://learntelehealth.org/event/state-of-the-healthcare-industry-market-updates-for-rural-strategy/
CATEGORIES:Important Date,Meetings & Conferences
ATTACH;FMTTYPE=image/png:https://learntelehealth.org/wp-content/uploads/2025/07/State-of-the-Healthcare-Industry-1.png
END:VEVENT
END:VCALENDAR