BEGIN:VCALENDAR
VERSION:2.0
PRODID:-//LearnTelehealth - ECPv6.15.13.1//NONSGML v1.0//EN
CALSCALE:GREGORIAN
METHOD:PUBLISH
X-ORIGINAL-URL:https://learntelehealth.org
X-WR-CALDESC:Events for LearnTelehealth
REFRESH-INTERVAL;VALUE=DURATION:PT1H
X-Robots-Tag:noindex
X-PUBLISHED-TTL:PT1H
BEGIN:VTIMEZONE
TZID:UTC
BEGIN:STANDARD
TZOFFSETFROM:+0000
TZOFFSETTO:+0000
TZNAME:UTC
DTSTART:20220101T000000
END:STANDARD
END:VTIMEZONE
BEGIN:VEVENT
DTSTART;TZID=UTC:20231101T100000
DTEND;TZID=UTC:20231101T110000
DTSTAMP:20260423T095624
CREATED:20220310T014711Z
LAST-MODIFIED:20220310T014711Z
UID:10000749-1698832800-1698836400@learntelehealth.org
SUMMARY:Fiber for Breakfast
DESCRIPTION:The Fiber Broadband Association is proud to announce its weekly live video series\, Fiber for Breakfast. \nFiber for Breakfast is a weekly 30-minute live video discussion hosted by our President and CEO\, Gary Bolton\, and featuring industry thought leaders on current topics that explore fiber as the critical infrastructure for 21st century communications as well as other connectivity and workplace issues presented during these challenging times. \nFiber for Breakfast will take place every Wednesday at 10am ET. Below are the registration links and recordings for each episode. For questions about Fiber for Breakfast or if you are interested in supporting and sponsoring the series\, please contact Jennifer Vassil at jvassil@fiberbroadband.org.
URL:https://learntelehealth.org/event/fiber-for-breakfast/2023-11-01/
CATEGORIES:Webinar
END:VEVENT
BEGIN:VEVENT
DTSTART;TZID=UTC:20231107T080000
DTEND;TZID=UTC:20231109T170000
DTSTAMP:20260423T095624
CREATED:20230529T023049Z
LAST-MODIFIED:20240224T052349Z
UID:10000817-1699344000-1699549200@learntelehealth.org
SUMMARY:SEARCH 2023 | The National Telehealth Research Symposium
DESCRIPTION:SEARCH 2023 | The National Telehealth Research Symposium is scheduled for November 7-9 at the Philadelphia Convention Center in Philadelphia\, PA.  \nMore information about registration and the agenda can be found at https://searchsociety.org/search2023. \n  \n 
URL:https://learntelehealth.org/event/search-2023-the-national-telehealth-research-symposium/
ATTACH;FMTTYPE=image/png:https://learntelehealth.org/wp-content/uploads/2024/02/SEARCH23-Horz-Logo-Full-Color.png
ORGANIZER;CN="Society for Education and the Advancement of Research in Connected Health":MAILTO:info@searchsociety.org
END:VEVENT
BEGIN:VEVENT
DTSTART;TZID=UTC:20231108T100000
DTEND;TZID=UTC:20231108T110000
DTSTAMP:20260423T095624
CREATED:20220310T014711Z
LAST-MODIFIED:20220310T014711Z
UID:10000750-1699437600-1699441200@learntelehealth.org
SUMMARY:Fiber for Breakfast
DESCRIPTION:The Fiber Broadband Association is proud to announce its weekly live video series\, Fiber for Breakfast. \nFiber for Breakfast is a weekly 30-minute live video discussion hosted by our President and CEO\, Gary Bolton\, and featuring industry thought leaders on current topics that explore fiber as the critical infrastructure for 21st century communications as well as other connectivity and workplace issues presented during these challenging times. \nFiber for Breakfast will take place every Wednesday at 10am ET. Below are the registration links and recordings for each episode. For questions about Fiber for Breakfast or if you are interested in supporting and sponsoring the series\, please contact Jennifer Vassil at jvassil@fiberbroadband.org.
URL:https://learntelehealth.org/event/fiber-for-breakfast/2023-11-08/
CATEGORIES:Webinar
END:VEVENT
BEGIN:VEVENT
DTSTART;VALUE=DATE:20231115
DTEND;VALUE=DATE:20231117
DTSTAMP:20260423T095624
CREATED:20231020T192610Z
LAST-MODIFIED:20240224T052426Z
UID:10000832-1700006400-1700179199@learntelehealth.org
SUMMARY:ATA Insights Summit: Virtual Nursing
DESCRIPTION:This two-day summit comprises focused discussion and working sessions built and formatted by nursing executives\, for nursing executives\, including: \n\nAll Content Sessions\n\nGeneral Sessions: Keynotes\, fireside chats\, and executive panels that address the broader challenges and potential applications of virtual nursing\nATA Special Sessions: A focused review of the latest policy changes shaping the landscape of virtual nursing and healthcare\nCase Studies: Highly interactive\, boardroom-style sessions focused on end-user virtual nursing solutions\n\n\nNetworking and Peer Engagement\n\nOpening welcome reception\nClosing dinner and awards ceremony\n\n\nMeals and Lodging\n\nTwo-night stay at the Fairmont Washington\, D.C.\, Georgetown\nAll meals\n\n\nPost-event Executive Summary 
URL:https://learntelehealth.org/event/ata-insights-summit-virtual-nursing/
CATEGORIES:Meetings & Conferences
ATTACH;FMTTYPE=image/jpeg:https://learntelehealth.org/wp-content/uploads/2024/02/Virtual-Nursing-Logos-1180-250.png
END:VEVENT
BEGIN:VEVENT
DTSTART;VALUE=DATE:20231115
DTEND;VALUE=DATE:20231118
DTSTAMP:20260423T095624
CREATED:20230306T015536Z
LAST-MODIFIED:20230306T015536Z
UID:10000798-1700006400-1700265599@learntelehealth.org
SUMMARY:RHAT Annual Conference
DESCRIPTION:Conference Hotel\nMarriot Knoxville Downtown\n525 Henley Street\nKnoxville\, Tennessee 37902 \nLocated in the heart of the Downtown Knoxville\, just a short 26 miles from the Sevierville Tanger Outlets and Pigeon Forge! \nRegistration\nRegistration for RHA of TN’s 29th Annual Conference is now open! \n\nEarly Bird Member Pricing: $175 until August 30th; Regular Member Pricing after August 30th: $225\nEarly Bird Non-Member Pricing: $250 until August 30th; Regular Non-Member Pricing after August 30th: $300\nEarly Bird Student Pricing: $80 until August 30th; Regular Student Pricing after August 30th: $125\n\n 
URL:https://learntelehealth.org/event/rhat-annual-conference/
LOCATION:Marriott Downtown Knoxville\, Knoxville\, TN
CATEGORIES:Meetings & Conferences
END:VEVENT
BEGIN:VEVENT
DTSTART;TZID=UTC:20231115T100000
DTEND;TZID=UTC:20231115T110000
DTSTAMP:20260423T095624
CREATED:20220310T014711Z
LAST-MODIFIED:20220310T014711Z
UID:10000751-1700042400-1700046000@learntelehealth.org
SUMMARY:Fiber for Breakfast
DESCRIPTION:The Fiber Broadband Association is proud to announce its weekly live video series\, Fiber for Breakfast. \nFiber for Breakfast is a weekly 30-minute live video discussion hosted by our President and CEO\, Gary Bolton\, and featuring industry thought leaders on current topics that explore fiber as the critical infrastructure for 21st century communications as well as other connectivity and workplace issues presented during these challenging times. \nFiber for Breakfast will take place every Wednesday at 10am ET. Below are the registration links and recordings for each episode. For questions about Fiber for Breakfast or if you are interested in supporting and sponsoring the series\, please contact Jennifer Vassil at jvassil@fiberbroadband.org.
URL:https://learntelehealth.org/event/fiber-for-breakfast/2023-11-15/
CATEGORIES:Webinar
END:VEVENT
BEGIN:VEVENT
DTSTART;TZID=UTC:20231117T130000
DTEND;TZID=UTC:20231117T140000
DTSTAMP:20260423T095624
CREATED:20221221T031907Z
LAST-MODIFIED:20221221T031907Z
UID:10000789-1700226000-1700229600@learntelehealth.org
SUMMARY:Telehealth 101 - Intro and Q&A
DESCRIPTION:New to telehealth and telemedicine? Interested in a high overview of digital health in general. Learn basic definitions\, applications\, and technology when it comes to telehealth. Click on the link below to register: \nhttps://uams.zoom.us/webinar/register/WN_SgNeQYrZSw6D0Bvnakktfg \n  \nFor more information\, contact Joe Schaffner: jschaffner@uams.edu.
URL:https://learntelehealth.org/event/telehealth-101-intro-and-qa-15/
LOCATION:Webinar
CATEGORIES:Webinar
ATTACH;FMTTYPE=image/png:https://learntelehealth.org/wp-content/uploads/2024/02/TH-101-Featured-Image-1.png
END:VEVENT
BEGIN:VEVENT
DTSTART;TZID=UTC:20231122T100000
DTEND;TZID=UTC:20231122T110000
DTSTAMP:20260423T095624
CREATED:20220310T014711Z
LAST-MODIFIED:20220310T014711Z
UID:10000752-1700647200-1700650800@learntelehealth.org
SUMMARY:Fiber for Breakfast
DESCRIPTION:The Fiber Broadband Association is proud to announce its weekly live video series\, Fiber for Breakfast. \nFiber for Breakfast is a weekly 30-minute live video discussion hosted by our President and CEO\, Gary Bolton\, and featuring industry thought leaders on current topics that explore fiber as the critical infrastructure for 21st century communications as well as other connectivity and workplace issues presented during these challenging times. \nFiber for Breakfast will take place every Wednesday at 10am ET. Below are the registration links and recordings for each episode. For questions about Fiber for Breakfast or if you are interested in supporting and sponsoring the series\, please contact Jennifer Vassil at jvassil@fiberbroadband.org.
URL:https://learntelehealth.org/event/fiber-for-breakfast/2023-11-22/
CATEGORIES:Webinar
END:VEVENT
BEGIN:VEVENT
DTSTART;TZID=UTC:20231129T100000
DTEND;TZID=UTC:20231129T110000
DTSTAMP:20260423T095624
CREATED:20220310T014711Z
LAST-MODIFIED:20220310T014711Z
UID:10000753-1701252000-1701255600@learntelehealth.org
SUMMARY:Fiber for Breakfast
DESCRIPTION:The Fiber Broadband Association is proud to announce its weekly live video series\, Fiber for Breakfast. \nFiber for Breakfast is a weekly 30-minute live video discussion hosted by our President and CEO\, Gary Bolton\, and featuring industry thought leaders on current topics that explore fiber as the critical infrastructure for 21st century communications as well as other connectivity and workplace issues presented during these challenging times. \nFiber for Breakfast will take place every Wednesday at 10am ET. Below are the registration links and recordings for each episode. For questions about Fiber for Breakfast or if you are interested in supporting and sponsoring the series\, please contact Jennifer Vassil at jvassil@fiberbroadband.org.
URL:https://learntelehealth.org/event/fiber-for-breakfast/2023-11-29/
CATEGORIES:Webinar
END:VEVENT
END:VCALENDAR