BEGIN:VCALENDAR
VERSION:2.0
PRODID:-//LearnTelehealth - ECPv6.15.13.1//NONSGML v1.0//EN
CALSCALE:GREGORIAN
METHOD:PUBLISH
X-ORIGINAL-URL:https://learntelehealth.org
X-WR-CALDESC:Events for LearnTelehealth
REFRESH-INTERVAL;VALUE=DURATION:PT1H
X-Robots-Tag:noindex
X-PUBLISHED-TTL:PT1H
BEGIN:VTIMEZONE
TZID:UTC
BEGIN:STANDARD
TZOFFSETFROM:+0000
TZOFFSETTO:+0000
TZNAME:UTC
DTSTART:20220101T000000
END:STANDARD
END:VTIMEZONE
BEGIN:VEVENT
DTSTART;TZID=UTC:20230801T123000
DTEND;TZID=UTC:20230801T133000
DTSTAMP:20260424T012229
CREATED:20230726T195000Z
LAST-MODIFIED:20230726T195000Z
UID:10000824-1690893000-1690896600@learntelehealth.org
SUMMARY:Medicaid & CHIP Renewal Webinar
DESCRIPTION:The Biden-Harris Administration is deeply concerned about people losing Medicaid/CHIP health care coverage as states resume regular renewal processes and will do everything in their power to keep Americans enrolled in comprehensive health care coverage. As part of this All Hands-on-Deck approach\, this training will walk-through a set of slides that federal employees and partners can download and use to educate people in their networks about Medicaid and CHIP renewals. We encourage you to share this invitation with your colleagues\, grantees\, and partners so that as many people as possible get trained on how to help educate people about Medicaid and CHIP renewals.  \nThe agenda for this training will include: \n\nRemarks from White House officials\n“Train-the-trainer” presentation on Medicaid and CHIP renewal information and strategies for educating people in your networks about Medicaid and CHIP renewals\nReview of CMS resources available to help with education and outreach\nCall to Action for federal and other partners and to do their part in helping keep people covered\n\nWhen: Tuesday\, August 1\, 2023 \nTime: 12:30 PM – 1:30 PM CST \nWhere: Zoom link will be provided following registration. \nWho should attend: This webinar is open to all federal government employees and partners. \nRSVP: https://pitc.zoomgov.com/webinar/register/WN_akW2HpXjQgi5xpIMiHl3-w
URL:https://learntelehealth.org/event/medicaid-chip-renewal-webinar/
CATEGORIES:Webinar
ATTACH;FMTTYPE=image/jpeg:https://learntelehealth.org/wp-content/uploads/2024/02/cmslogo.jpg
END:VEVENT
BEGIN:VEVENT
DTSTART;TZID=UTC:20230802T100000
DTEND;TZID=UTC:20230802T110000
DTSTAMP:20260424T012229
CREATED:20220310T014711Z
LAST-MODIFIED:20220310T014711Z
UID:10000736-1690970400-1690974000@learntelehealth.org
SUMMARY:Fiber for Breakfast
DESCRIPTION:The Fiber Broadband Association is proud to announce its weekly live video series\, Fiber for Breakfast. \nFiber for Breakfast is a weekly 30-minute live video discussion hosted by our President and CEO\, Gary Bolton\, and featuring industry thought leaders on current topics that explore fiber as the critical infrastructure for 21st century communications as well as other connectivity and workplace issues presented during these challenging times. \nFiber for Breakfast will take place every Wednesday at 10am ET. Below are the registration links and recordings for each episode. For questions about Fiber for Breakfast or if you are interested in supporting and sponsoring the series\, please contact Jennifer Vassil at jvassil@fiberbroadband.org.
URL:https://learntelehealth.org/event/fiber-for-breakfast/2023-08-02/
CATEGORIES:Webinar
END:VEVENT
BEGIN:VEVENT
DTSTART;TZID=UTC:20230809T100000
DTEND;TZID=UTC:20230809T110000
DTSTAMP:20260424T012229
CREATED:20220310T014711Z
LAST-MODIFIED:20220310T014711Z
UID:10000737-1691575200-1691578800@learntelehealth.org
SUMMARY:Fiber for Breakfast
DESCRIPTION:The Fiber Broadband Association is proud to announce its weekly live video series\, Fiber for Breakfast. \nFiber for Breakfast is a weekly 30-minute live video discussion hosted by our President and CEO\, Gary Bolton\, and featuring industry thought leaders on current topics that explore fiber as the critical infrastructure for 21st century communications as well as other connectivity and workplace issues presented during these challenging times. \nFiber for Breakfast will take place every Wednesday at 10am ET. Below are the registration links and recordings for each episode. For questions about Fiber for Breakfast or if you are interested in supporting and sponsoring the series\, please contact Jennifer Vassil at jvassil@fiberbroadband.org.
URL:https://learntelehealth.org/event/fiber-for-breakfast/2023-08-09/
CATEGORIES:Webinar
END:VEVENT
BEGIN:VEVENT
DTSTART;TZID=UTC:20230816T100000
DTEND;TZID=UTC:20230816T110000
DTSTAMP:20260424T012229
CREATED:20220310T014711Z
LAST-MODIFIED:20220310T014711Z
UID:10000738-1692180000-1692183600@learntelehealth.org
SUMMARY:Fiber for Breakfast
DESCRIPTION:The Fiber Broadband Association is proud to announce its weekly live video series\, Fiber for Breakfast. \nFiber for Breakfast is a weekly 30-minute live video discussion hosted by our President and CEO\, Gary Bolton\, and featuring industry thought leaders on current topics that explore fiber as the critical infrastructure for 21st century communications as well as other connectivity and workplace issues presented during these challenging times. \nFiber for Breakfast will take place every Wednesday at 10am ET. Below are the registration links and recordings for each episode. For questions about Fiber for Breakfast or if you are interested in supporting and sponsoring the series\, please contact Jennifer Vassil at jvassil@fiberbroadband.org.
URL:https://learntelehealth.org/event/fiber-for-breakfast/2023-08-16/
CATEGORIES:Webinar
END:VEVENT
BEGIN:VEVENT
DTSTART;TZID=UTC:20230823T100000
DTEND;TZID=UTC:20230823T110000
DTSTAMP:20260424T012229
CREATED:20220310T014711Z
LAST-MODIFIED:20220310T014711Z
UID:10000739-1692784800-1692788400@learntelehealth.org
SUMMARY:Fiber for Breakfast
DESCRIPTION:The Fiber Broadband Association is proud to announce its weekly live video series\, Fiber for Breakfast. \nFiber for Breakfast is a weekly 30-minute live video discussion hosted by our President and CEO\, Gary Bolton\, and featuring industry thought leaders on current topics that explore fiber as the critical infrastructure for 21st century communications as well as other connectivity and workplace issues presented during these challenging times. \nFiber for Breakfast will take place every Wednesday at 10am ET. Below are the registration links and recordings for each episode. For questions about Fiber for Breakfast or if you are interested in supporting and sponsoring the series\, please contact Jennifer Vassil at jvassil@fiberbroadband.org.
URL:https://learntelehealth.org/event/fiber-for-breakfast/2023-08-23/
CATEGORIES:Webinar
END:VEVENT
BEGIN:VEVENT
DTSTART;TZID=UTC:20230830T100000
DTEND;TZID=UTC:20230830T110000
DTSTAMP:20260424T012229
CREATED:20220310T014711Z
LAST-MODIFIED:20220310T014711Z
UID:10000740-1693389600-1693393200@learntelehealth.org
SUMMARY:Fiber for Breakfast
DESCRIPTION:The Fiber Broadband Association is proud to announce its weekly live video series\, Fiber for Breakfast. \nFiber for Breakfast is a weekly 30-minute live video discussion hosted by our President and CEO\, Gary Bolton\, and featuring industry thought leaders on current topics that explore fiber as the critical infrastructure for 21st century communications as well as other connectivity and workplace issues presented during these challenging times. \nFiber for Breakfast will take place every Wednesday at 10am ET. Below are the registration links and recordings for each episode. For questions about Fiber for Breakfast or if you are interested in supporting and sponsoring the series\, please contact Jennifer Vassil at jvassil@fiberbroadband.org.
URL:https://learntelehealth.org/event/fiber-for-breakfast/2023-08-30/
CATEGORIES:Webinar
END:VEVENT
END:VCALENDAR