BEGIN:VCALENDAR
VERSION:2.0
PRODID:-//LearnTelehealth - ECPv6.15.13.1//NONSGML v1.0//EN
CALSCALE:GREGORIAN
METHOD:PUBLISH
X-ORIGINAL-URL:https://learntelehealth.org
X-WR-CALDESC:Events for LearnTelehealth
REFRESH-INTERVAL;VALUE=DURATION:PT1H
X-Robots-Tag:noindex
X-PUBLISHED-TTL:PT1H
BEGIN:VTIMEZONE
TZID:UTC
BEGIN:STANDARD
TZOFFSETFROM:+0000
TZOFFSETTO:+0000
TZNAME:UTC
DTSTART:20220101T000000
END:STANDARD
END:VTIMEZONE
BEGIN:VEVENT
DTSTART;TZID=UTC:20230606T120000
DTEND;TZID=UTC:20230606T130000
DTSTAMP:20260424T105652
CREATED:20230531T001540Z
LAST-MODIFIED:20230531T001540Z
UID:10000818-1686052800-1686056400@learntelehealth.org
SUMMARY:Advancing Healthcare Priorities with Organizational Health Literacy
DESCRIPTION:Webinar Objectives: \n\nExplain the connection between clear health communication and elements of the Quadruple Aim\nDescribe at least 3 attributes of a health literacy-responsive organization\nDiscuss at least 2 actions you can take to advance organizational health literacy\, based on your role and responsibilities\n\nAt the time of the teleconference\, click the button below to join using Zoom. \nClick to Join Webinar\n  \nUse this passcode to enter the teleconference: \nMeeting ID: 941 3446 6298\nPasscode: 2023
URL:https://learntelehealth.org/event/advancing-healthcare-priorities-with-organizational-health-literacy/
CATEGORIES:Webinar
END:VEVENT
BEGIN:VEVENT
DTSTART;TZID=UTC:20230607T100000
DTEND;TZID=UTC:20230607T110000
DTSTAMP:20260424T105652
CREATED:20220310T014711Z
LAST-MODIFIED:20220310T014711Z
UID:10000728-1686132000-1686135600@learntelehealth.org
SUMMARY:Fiber for Breakfast
DESCRIPTION:The Fiber Broadband Association is proud to announce its weekly live video series\, Fiber for Breakfast. \nFiber for Breakfast is a weekly 30-minute live video discussion hosted by our President and CEO\, Gary Bolton\, and featuring industry thought leaders on current topics that explore fiber as the critical infrastructure for 21st century communications as well as other connectivity and workplace issues presented during these challenging times. \nFiber for Breakfast will take place every Wednesday at 10am ET. Below are the registration links and recordings for each episode. For questions about Fiber for Breakfast or if you are interested in supporting and sponsoring the series\, please contact Jennifer Vassil at jvassil@fiberbroadband.org.
URL:https://learntelehealth.org/event/fiber-for-breakfast/2023-06-07/
CATEGORIES:Webinar
END:VEVENT
BEGIN:VEVENT
DTSTART;TZID=UTC:20230613T100000
DTEND;TZID=UTC:20230613T110000
DTSTAMP:20260424T105652
CREATED:20230517T232440Z
LAST-MODIFIED:20230517T232440Z
UID:10000813-1686650400-1686654000@learntelehealth.org
SUMMARY:The Next Wave of Emergency Preparedness in Healthcare
DESCRIPTION:This webinar will focus on three priority areas that healthcare leaders must address to prepare\, respond to\, and recover from future public health emergencies: strengthening cross-sector partnerships\, building workforce capacity and resilience\, and fostering a culture of preparedness. We will focus on the findings of the Convening Leaders for Emergency and Response (CLEAR) Field Guide. The field guide is a road map offering four common emergency management objectives that healthcare and public health partners should prioritize together along with tangible strategies\, real-world examples\, resources\, and action steps.
URL:https://learntelehealth.org/event/the-next-wave-of-emergency-preparedness-in-healthcare/
CATEGORIES:Webinar
ORGANIZER;CN="Mississippi Hospital Association":MAILTO:srossi@mhanet.org
END:VEVENT
BEGIN:VEVENT
DTSTART;TZID=UTC:20230614T100000
DTEND;TZID=UTC:20230614T110000
DTSTAMP:20260424T105652
CREATED:20220310T014711Z
LAST-MODIFIED:20220310T014711Z
UID:10000729-1686736800-1686740400@learntelehealth.org
SUMMARY:Fiber for Breakfast
DESCRIPTION:The Fiber Broadband Association is proud to announce its weekly live video series\, Fiber for Breakfast. \nFiber for Breakfast is a weekly 30-minute live video discussion hosted by our President and CEO\, Gary Bolton\, and featuring industry thought leaders on current topics that explore fiber as the critical infrastructure for 21st century communications as well as other connectivity and workplace issues presented during these challenging times. \nFiber for Breakfast will take place every Wednesday at 10am ET. Below are the registration links and recordings for each episode. For questions about Fiber for Breakfast or if you are interested in supporting and sponsoring the series\, please contact Jennifer Vassil at jvassil@fiberbroadband.org.
URL:https://learntelehealth.org/event/fiber-for-breakfast/2023-06-14/
CATEGORIES:Webinar
END:VEVENT
BEGIN:VEVENT
DTSTART;TZID=UTC:20230615T110000
DTEND;TZID=UTC:20230615T120000
DTSTAMP:20260424T105652
CREATED:20230621T234059Z
LAST-MODIFIED:20230621T234059Z
UID:10000820-1686826800-1686830400@learntelehealth.org
SUMMARY:Telehealth Equity Among Medicare Beneficiaries (2018-2020)
DESCRIPTION:Hosted by: South Central Telehealth Resource Center \nPresented by: Cari A. Bogulski – Assistant Professor\, Department of Biomedical Informatics\, University of Arkansas for Medical Sciences \nDescription: Telehealth has the potential to address existing health disparities among such underserved populations as rural residents\, racial/ethnic minorities\, and those with chronic conditions. The first few months of the COVID-19 public health emergency saw unprecedented telehealth expansion. Although rates of telehealth utilization have since dropped\, rates remain much higher than pre-COVID rates. This project conducted by members of the Rural Telehealth Evaluation Center sought to examine how telehealth expanded for underserved populations using a 20% random sample of national Medicare claims.
URL:https://learntelehealth.org/event/telehealth-equity-among-medicare-beneficiaries-2018-2020/
LOCATION:Webinar
CATEGORIES:Webinar
END:VEVENT
BEGIN:VEVENT
DTSTART;TZID=UTC:20230621T100000
DTEND;TZID=UTC:20230621T110000
DTSTAMP:20260424T105652
CREATED:20220310T014711Z
LAST-MODIFIED:20220310T014711Z
UID:10000730-1687341600-1687345200@learntelehealth.org
SUMMARY:Fiber for Breakfast
DESCRIPTION:The Fiber Broadband Association is proud to announce its weekly live video series\, Fiber for Breakfast. \nFiber for Breakfast is a weekly 30-minute live video discussion hosted by our President and CEO\, Gary Bolton\, and featuring industry thought leaders on current topics that explore fiber as the critical infrastructure for 21st century communications as well as other connectivity and workplace issues presented during these challenging times. \nFiber for Breakfast will take place every Wednesday at 10am ET. Below are the registration links and recordings for each episode. For questions about Fiber for Breakfast or if you are interested in supporting and sponsoring the series\, please contact Jennifer Vassil at jvassil@fiberbroadband.org.
URL:https://learntelehealth.org/event/fiber-for-breakfast/2023-06-21/
CATEGORIES:Webinar
END:VEVENT
BEGIN:VEVENT
DTSTART;TZID=UTC:20230627T100000
DTEND;TZID=UTC:20230627T110000
DTSTAMP:20260424T105652
CREATED:20230517T232618Z
LAST-MODIFIED:20230517T232618Z
UID:10000814-1687860000-1687863600@learntelehealth.org
SUMMARY:Developing Emergency Preparedness Plans with a Health Equity Focus
DESCRIPTION:Hospitals are on the frontline as our communities prepare for\, respond to\, and recover from a variety of emergencies. This webinar will cover how we can ensure our preparedness plans have a health equity focus and consideration for the needs of all members of our communities.
URL:https://learntelehealth.org/event/developing-emergency-preparedness-plans-with-a-health-equity-focus/
CATEGORIES:Webinar
ORGANIZER;CN="Mississippi Hospital Association":MAILTO:srossi@mhanet.org
END:VEVENT
BEGIN:VEVENT
DTSTART;TZID=UTC:20230628T100000
DTEND;TZID=UTC:20230628T110000
DTSTAMP:20260424T105652
CREATED:20220310T014711Z
LAST-MODIFIED:20220310T014711Z
UID:10000731-1687946400-1687950000@learntelehealth.org
SUMMARY:Fiber for Breakfast
DESCRIPTION:The Fiber Broadband Association is proud to announce its weekly live video series\, Fiber for Breakfast. \nFiber for Breakfast is a weekly 30-minute live video discussion hosted by our President and CEO\, Gary Bolton\, and featuring industry thought leaders on current topics that explore fiber as the critical infrastructure for 21st century communications as well as other connectivity and workplace issues presented during these challenging times. \nFiber for Breakfast will take place every Wednesday at 10am ET. Below are the registration links and recordings for each episode. For questions about Fiber for Breakfast or if you are interested in supporting and sponsoring the series\, please contact Jennifer Vassil at jvassil@fiberbroadband.org.
URL:https://learntelehealth.org/event/fiber-for-breakfast/2023-06-28/
CATEGORIES:Webinar
END:VEVENT
BEGIN:VEVENT
DTSTART;TZID=UTC:20230628T150000
DTEND;TZID=UTC:20230628T170000
DTSTAMP:20260424T105652
CREATED:20230610T014947Z
LAST-MODIFIED:20230610T014947Z
UID:10000819-1687964400-1687971600@learntelehealth.org
SUMMARY:Pediatric Telehealth Post-Pandemic: Creating A Path Forward Webinar
DESCRIPTION:Join the SPROUT-CTSA Collaborative Telehealth Research Network on Wednesday\, June 28th from 3-5 pm EST for the Pediatric Telehealth Post-Pandemic: Creating A Path Forward Webinar \nThe 2-hr webinar will feature 2 brief presentations on lessons learned during the pandemic and the impact of the end of the public health emergency on pediatric telehealth followed by a series of panel discussions addressing health equity\, education\, and a research agenda to support evidence-based best practices\, inform policy\, and support a value-driven reimbursement model.  Please see the attached flyer for more information. We hope you will be able to attend this informative event. \nAdvanced registration is required for this event.  Please click the link below to register: \nhttps://zoom.us/webinar/register/WN_13gTxkxqSCG1cJp80YbQGw \nAfter registering\, you will receive a confirmation email containing information about joining the webinar. \nSpeakers and Panelists:   \n\nChristina Olson\, MD\, Telehealth Medical Director and Hospitalist at Children’s Hospital Colorado\, Associate Professor within the Department of Pediatrics at University of Colorado\nBrooke McSwain\, Sc.\, RRT\, M.A.\, National Policy Research Analyst\, Digital Health\, Public Health Infrastructure\, Systems of Care\, Stroke\, Policy Advisor within the Center for Health Technology & Innovation\, Policy Advisor for AHA Telehealth at the American Heart Association\, Department of Policy Research and Advocacy\nKristin Ray\, MD\, MS FAAP\, Associate Professor of Pediatrics\, Director of Health Systems Improvement at UPMC Children’s Community Pediatrics\, Affiliated Faculty within the Health Policy Institute\, University of Pittsburgh\, Program Director for the General Academic Pediatrics Research Fellowship\nDana Schinasi\, MD\, Medical Director of Digital Health\, Chief Medical Informatics Officer\, Attending Physician in Emergency Medicine at Ann and Robert H. Lurie Children’s Hospital of Chicago\, Associate Professor of Pediatrics (Emergency Medicine) at Northwestern University School of Medicine\nKevin Wiley\, PhD\, MPH\, Assistant Professor in the Department of Healthcare Leadership and Management at the Medical University of South Carolina\, Leadership Fellow NIH AIM-AHEAD Consortium\nDavid Gray\, Director of Government Relations and Connected Health Policy at HIMSS\nRagan Dubose-Morris\, PhD\, Associate Professor in the College of Academic Affairs\, Director of Telehealth Education within the Center for Telehealth at the Medical University of South Carolina.\n\nPlease email Christina Coleman\, SPROUT-CTSA Program Manager\, christina_coleman@med.unc.edu with your questions.
URL:https://learntelehealth.org/event/pediatric-telehealth-post-pandemic-creating-a-path-forward-webinar/
CATEGORIES:Webinar
END:VEVENT
END:VCALENDAR