BEGIN:VCALENDAR
VERSION:2.0
PRODID:-//LearnTelehealth - ECPv6.15.13.1//NONSGML v1.0//EN
CALSCALE:GREGORIAN
METHOD:PUBLISH
X-WR-CALNAME:LearnTelehealth
X-ORIGINAL-URL:https://learntelehealth.org
X-WR-CALDESC:Events for LearnTelehealth
REFRESH-INTERVAL;VALUE=DURATION:PT1H
X-Robots-Tag:noindex
X-PUBLISHED-TTL:PT1H
BEGIN:VTIMEZONE
TZID:UTC
BEGIN:STANDARD
TZOFFSETFROM:+0000
TZOFFSETTO:+0000
TZNAME:UTC
DTSTART:20220101T000000
END:STANDARD
END:VTIMEZONE
BEGIN:VEVENT
DTSTART;TZID=UTC:20230503T100000
DTEND;TZID=UTC:20230503T110000
DTSTAMP:20260424T133713
CREATED:20220310T014711Z
LAST-MODIFIED:20220310T014711Z
UID:10000723-1683108000-1683111600@learntelehealth.org
SUMMARY:Fiber for Breakfast
DESCRIPTION:The Fiber Broadband Association is proud to announce its weekly live video series\, Fiber for Breakfast. \nFiber for Breakfast is a weekly 30-minute live video discussion hosted by our President and CEO\, Gary Bolton\, and featuring industry thought leaders on current topics that explore fiber as the critical infrastructure for 21st century communications as well as other connectivity and workplace issues presented during these challenging times. \nFiber for Breakfast will take place every Wednesday at 10am ET. Below are the registration links and recordings for each episode. For questions about Fiber for Breakfast or if you are interested in supporting and sponsoring the series\, please contact Jennifer Vassil at jvassil@fiberbroadband.org.
URL:https://learntelehealth.org/event/fiber-for-breakfast/2023-05-03/
CATEGORIES:Webinar
END:VEVENT
BEGIN:VEVENT
DTSTART;TZID=UTC:20230504T140000
DTEND;TZID=UTC:20230504T150000
DTSTAMP:20260424T133713
CREATED:20230424T203137Z
LAST-MODIFIED:20230424T203137Z
UID:10000809-1683208800-1683212400@learntelehealth.org
SUMMARY:Keeping Care in our Communities: Telehealth as a Lifeline for Rural Healthcare
DESCRIPTION:Join healthcare experts Steve Barnett\, Corey Scurlock\, and Rodney Buchanan in an informative webinar on telehealth for rural healthcare facilities. With their combined experience of over 60 years in successful rural hospital operations\, healthcare management\, financial analysis\, strategic planning\, and business development\, the panelists will provide tangible insights into implementing telehealth solutions that are both successful and profitable. \nIn this discussion-driven webinar\, the panelists will share how to identify where telehealth can fit in your organization and how to get started. They will debunk myths about the cost and complexity of telehealth and provide best practices for implementation. Additionally\, the benefits of ongoing program measurement and goal communication will be discussed to help you gain buy-in over time. \nLearn more and register here.
URL:https://learntelehealth.org/event/keeping-care-in-our-communities-telehealth-as-a-lifeline-for-rural-healthcare/
LOCATION:Webinar
END:VEVENT
BEGIN:VEVENT
DTSTART;TZID=UTC:20230505T120000
DTEND;TZID=UTC:20230505T130000
DTSTAMP:20260424T133713
CREATED:20230410T055934Z
LAST-MODIFIED:20230410T055934Z
UID:10000808-1683288000-1683291600@learntelehealth.org
SUMMARY:IDHI Digital Health Series: Association Between Broadband Capacity and Telehealth Utilization Among Medicare Fee-for-Service Beneficiaries During the COVID-19 Pandemic
DESCRIPTION:Corey Hayes\, PhD\, Deputy Director for the Rural Telehealth Evaluation Center will make a presentation on how the “Digital Divide” and broadband access impacted healthcare during the pandemic. \nWebinar Objectives:\n1. Define the “Digital Divide” and broadband as a social determinant of health.\n2. Describe how county-level broadband access impacts telehealth utilization in the United States. \n  \nRegister for the webinar HERE.
URL:https://learntelehealth.org/event/idhi-digital-health-series-association-between-broadband-capacity-and-telehealth-utilization-among-medicare-fee-for-service-beneficiaries-during-the-covid-19-pandemic/
LOCATION:Webinar
END:VEVENT
BEGIN:VEVENT
DTSTART;TZID=UTC:20230510T100000
DTEND;TZID=UTC:20230510T110000
DTSTAMP:20260424T133713
CREATED:20220310T014711Z
LAST-MODIFIED:20220310T014711Z
UID:10000724-1683712800-1683716400@learntelehealth.org
SUMMARY:Fiber for Breakfast
DESCRIPTION:The Fiber Broadband Association is proud to announce its weekly live video series\, Fiber for Breakfast. \nFiber for Breakfast is a weekly 30-minute live video discussion hosted by our President and CEO\, Gary Bolton\, and featuring industry thought leaders on current topics that explore fiber as the critical infrastructure for 21st century communications as well as other connectivity and workplace issues presented during these challenging times. \nFiber for Breakfast will take place every Wednesday at 10am ET. Below are the registration links and recordings for each episode. For questions about Fiber for Breakfast or if you are interested in supporting and sponsoring the series\, please contact Jennifer Vassil at jvassil@fiberbroadband.org.
URL:https://learntelehealth.org/event/fiber-for-breakfast/2023-05-10/
CATEGORIES:Webinar
END:VEVENT
BEGIN:VEVENT
DTSTART;VALUE=DATE:20230512
DTEND;VALUE=DATE:20230513
DTSTAMP:20260424T133713
CREATED:20230403T235219Z
LAST-MODIFIED:20230403T235219Z
UID:10000805-1683849600-1683935999@learntelehealth.org
SUMMARY:American Heart Association SouthWest Region Rural Health Summit
DESCRIPTION:Join the SouthWest region of the American Heart Association (AHA) for their inaugural Rural Health Summit on May 12 in Dallas\, Texas. This interactive event will bring together a cross-sector of leaders representing the 7 million people residing in rural communities across Arkansas\, Colorado\, New Mexico\, Oklahoma\, Texas\, and Wyoming to exchange innovations and community priorities while informing AHA’s rural action agenda. There is a registration fee of $100 to attend the summit. Limited scholarships are available for those who require financial assistance to attend. \nRegistration & Travel \nThere is a registration fee of $100 to attend the summit.  Limited scholarships are available for those who require financial assistance to attend. Please fill out the form below and answer the final question\, which is about financial assistance.
URL:https://learntelehealth.org/event/american-heart-association-southwest-region-rural-health-summit/
CATEGORIES:Meetings & Conferences
END:VEVENT
BEGIN:VEVENT
DTSTART;VALUE=DATE:20230512
DTEND;VALUE=DATE:20230513
DTSTAMP:20260424T133713
CREATED:20230405T195524Z
LAST-MODIFIED:20230405T195524Z
UID:10000806-1683849600-1683935999@learntelehealth.org
SUMMARY:2023 Alabama Telehealth Forum
DESCRIPTION:
URL:https://learntelehealth.org/event/2023-alabama-telehealth-forum/
LOCATION:University of South Alabama Student Center\, 350 Student Center Circle\, Mobile\, AL\, 36688\, United States
CATEGORIES:Meetings & Conferences
ORGANIZER;CN="Southeastern Telehealth Resource Center":MAILTO:info@setrc.us
END:VEVENT
BEGIN:VEVENT
DTSTART;TZID=UTC:20230516T170000
DTEND;TZID=UTC:20230519T110000
DTSTAMP:20260424T133713
CREATED:20230424T204548Z
LAST-MODIFIED:20230424T204548Z
UID:10000810-1684256400-1684494000@learntelehealth.org
SUMMARY:NRHA’s Annual Rural Health Conference
DESCRIPTION:Join NRHA and rural health leaders from across the country in sunny San Diego to help raise the standard for rural health with over 80 innovative\, practical\, and cost-saving sessions and much more. \nNRHA’s 46th Annual Rural Health Conference\, 8th Rural Hospital Innovation Summit\, and associated events are May 16-19 in San Diego\, Calif. \nDetails & Registration\n  \n 
URL:https://learntelehealth.org/event/nrhas-annual-rural-health-conference/
LOCATION:San Diego\, CA
CATEGORIES:Meetings & Conferences
END:VEVENT
BEGIN:VEVENT
DTSTART;TZID=UTC:20230517T090000
DTEND;TZID=UTC:20230517T100000
DTSTAMP:20260424T133713
CREATED:20230512T224851Z
LAST-MODIFIED:20230512T224851Z
UID:10000811-1684314000-1684317600@learntelehealth.org
SUMMARY:Fiber for Breakfast: Turning the Tide in Mississippi with Fiber
DESCRIPTION: The Fiber Broadband Association is pleased to announce Fiber for Breakfast Week 20: Turning the Tide in Mississippi. \n   \nMississippi is the 42nd most connected State in the nation. Quinn Jordan and his team at the Mississippi Broadband Association are working to change lives in Mississippi with fiber. Quinn will share the actions underway to catapult the State from the back of the pack to leaders in connectivity and economic development.  \n   \nFiber for Breakfast is a weekly 30-minute live video discussion hosted by President and CEO\, Gary Bolton\, and features industry thought leaders on current topics that explore fiber as the critical infrastructure for 21st century communications as well as other connectivity and workplace issues.  \n 
URL:https://learntelehealth.org/event/fiber-for-breakfast-turning-the-tide-in-mississippi-with-fiber/
LOCATION:Webinar
CATEGORIES:Webinar
END:VEVENT
BEGIN:VEVENT
DTSTART;TZID=UTC:20230517T100000
DTEND;TZID=UTC:20230517T110000
DTSTAMP:20260424T133713
CREATED:20220310T014711Z
LAST-MODIFIED:20220310T014711Z
UID:10000725-1684317600-1684321200@learntelehealth.org
SUMMARY:Fiber for Breakfast
DESCRIPTION:The Fiber Broadband Association is proud to announce its weekly live video series\, Fiber for Breakfast. \nFiber for Breakfast is a weekly 30-minute live video discussion hosted by our President and CEO\, Gary Bolton\, and featuring industry thought leaders on current topics that explore fiber as the critical infrastructure for 21st century communications as well as other connectivity and workplace issues presented during these challenging times. \nFiber for Breakfast will take place every Wednesday at 10am ET. Below are the registration links and recordings for each episode. For questions about Fiber for Breakfast or if you are interested in supporting and sponsoring the series\, please contact Jennifer Vassil at jvassil@fiberbroadband.org.
URL:https://learntelehealth.org/event/fiber-for-breakfast/2023-05-17/
CATEGORIES:Webinar
END:VEVENT
BEGIN:VEVENT
DTSTART;TZID=UTC:20230524T100000
DTEND;TZID=UTC:20230524T110000
DTSTAMP:20260424T133713
CREATED:20220310T014711Z
LAST-MODIFIED:20220310T014711Z
UID:10000726-1684922400-1684926000@learntelehealth.org
SUMMARY:Fiber for Breakfast
DESCRIPTION:The Fiber Broadband Association is proud to announce its weekly live video series\, Fiber for Breakfast. \nFiber for Breakfast is a weekly 30-minute live video discussion hosted by our President and CEO\, Gary Bolton\, and featuring industry thought leaders on current topics that explore fiber as the critical infrastructure for 21st century communications as well as other connectivity and workplace issues presented during these challenging times. \nFiber for Breakfast will take place every Wednesday at 10am ET. Below are the registration links and recordings for each episode. For questions about Fiber for Breakfast or if you are interested in supporting and sponsoring the series\, please contact Jennifer Vassil at jvassil@fiberbroadband.org.
URL:https://learntelehealth.org/event/fiber-for-breakfast/2023-05-24/
CATEGORIES:Webinar
END:VEVENT
BEGIN:VEVENT
DTSTART;TZID=UTC:20230525T120000
DTEND;TZID=UTC:20230525T130000
DTSTAMP:20260424T133713
CREATED:20230524T143107Z
LAST-MODIFIED:20240224T052346Z
UID:10000815-1685016000-1685019600@learntelehealth.org
SUMMARY:ATA Telehealth Policy Update
DESCRIPTION:Join us on Thursday\, May 25 at 1:00pm ET for a state-by-state overview of recent policy activities\, priorities and trends we’re seeing for 2023. \nThis webinar will cover a range of critical topics that are shaping the regulatory environment. From interstate licensure to privacy bills\, modality neutral legislation and more\, our expert panelists will provide insights and a comprehensive deep dive into the most pressing policy matters. We’ll also highlight the victories achieved this session and the progress we’ve made together. \nThis is part of the ATA’s monthly Policy Deep Dive Webinar Series. Registration is free but required to attend.
URL:https://learntelehealth.org/event/ata-telehealth-policy-update/
CATEGORIES:Webinar
ATTACH;FMTTYPE=image/png:https://learntelehealth.org/wp-content/uploads/2024/02/ata-social-share-1200x628-1-1-1024x536-1.png
END:VEVENT
BEGIN:VEVENT
DTSTART;TZID=UTC:20230526T130000
DTEND;TZID=UTC:20230526T140000
DTSTAMP:20260424T133713
CREATED:20221221T031116Z
LAST-MODIFIED:20221221T031116Z
UID:10000786-1685106000-1685109600@learntelehealth.org
SUMMARY:Telehealth 101 - Intro and Q&A
DESCRIPTION:New to telehealth and telemedicine? Interested in a high overview of digital health in general. Learn basic definitions\, applications\, and technology when it comes to telehealth. Click on the link below to register: \nhttps://uams.zoom.us/webinar/register/WN_SgNeQYrZSw6D0Bvnakktfg \n  \nFor more information\, contact Joe Schaffner: jschaffner@uams.edu.
URL:https://learntelehealth.org/event/telehealth-101-intro-and-qa-9/
LOCATION:Webinar
CATEGORIES:Webinar
ATTACH;FMTTYPE=image/png:https://learntelehealth.org/wp-content/uploads/2024/02/TH-101-Featured-Image-1.png
END:VEVENT
BEGIN:VEVENT
DTSTART;TZID=UTC:20230531T100000
DTEND;TZID=UTC:20230531T110000
DTSTAMP:20260424T133713
CREATED:20220310T014711Z
LAST-MODIFIED:20220310T014711Z
UID:10000727-1685527200-1685530800@learntelehealth.org
SUMMARY:Fiber for Breakfast
DESCRIPTION:The Fiber Broadband Association is proud to announce its weekly live video series\, Fiber for Breakfast. \nFiber for Breakfast is a weekly 30-minute live video discussion hosted by our President and CEO\, Gary Bolton\, and featuring industry thought leaders on current topics that explore fiber as the critical infrastructure for 21st century communications as well as other connectivity and workplace issues presented during these challenging times. \nFiber for Breakfast will take place every Wednesday at 10am ET. Below are the registration links and recordings for each episode. For questions about Fiber for Breakfast or if you are interested in supporting and sponsoring the series\, please contact Jennifer Vassil at jvassil@fiberbroadband.org.
URL:https://learntelehealth.org/event/fiber-for-breakfast/2023-05-31/
CATEGORIES:Webinar
END:VEVENT
END:VCALENDAR