BEGIN:VCALENDAR
VERSION:2.0
PRODID:-//LearnTelehealth - ECPv6.15.13.1//NONSGML v1.0//EN
CALSCALE:GREGORIAN
METHOD:PUBLISH
X-ORIGINAL-URL:https://learntelehealth.org
X-WR-CALDESC:Events for LearnTelehealth
REFRESH-INTERVAL;VALUE=DURATION:PT1H
X-Robots-Tag:noindex
X-PUBLISHED-TTL:PT1H
BEGIN:VTIMEZONE
TZID:UTC
BEGIN:STANDARD
TZOFFSETFROM:+0000
TZOFFSETTO:+0000
TZNAME:UTC
DTSTART:20220101T000000
END:STANDARD
END:VTIMEZONE
BEGIN:VEVENT
DTSTART;TZID=UTC:20230104T100000
DTEND;TZID=UTC:20230104T110000
DTSTAMP:20260424T212050
CREATED:20220310T014711Z
LAST-MODIFIED:20220310T014711Z
UID:10000706-1672826400-1672830000@learntelehealth.org
SUMMARY:Fiber for Breakfast
DESCRIPTION:The Fiber Broadband Association is proud to announce its weekly live video series\, Fiber for Breakfast. \nFiber for Breakfast is a weekly 30-minute live video discussion hosted by our President and CEO\, Gary Bolton\, and featuring industry thought leaders on current topics that explore fiber as the critical infrastructure for 21st century communications as well as other connectivity and workplace issues presented during these challenging times. \nFiber for Breakfast will take place every Wednesday at 10am ET. Below are the registration links and recordings for each episode. For questions about Fiber for Breakfast or if you are interested in supporting and sponsoring the series\, please contact Jennifer Vassil at jvassil@fiberbroadband.org.
URL:https://learntelehealth.org/event/fiber-for-breakfast/2023-01-04/
CATEGORIES:Webinar
END:VEVENT
BEGIN:VEVENT
DTSTART;TZID=UTC:20230111T100000
DTEND;TZID=UTC:20230111T110000
DTSTAMP:20260424T212050
CREATED:20220310T014711Z
LAST-MODIFIED:20220310T014711Z
UID:10000707-1673431200-1673434800@learntelehealth.org
SUMMARY:Fiber for Breakfast
DESCRIPTION:The Fiber Broadband Association is proud to announce its weekly live video series\, Fiber for Breakfast. \nFiber for Breakfast is a weekly 30-minute live video discussion hosted by our President and CEO\, Gary Bolton\, and featuring industry thought leaders on current topics that explore fiber as the critical infrastructure for 21st century communications as well as other connectivity and workplace issues presented during these challenging times. \nFiber for Breakfast will take place every Wednesday at 10am ET. Below are the registration links and recordings for each episode. For questions about Fiber for Breakfast or if you are interested in supporting and sponsoring the series\, please contact Jennifer Vassil at jvassil@fiberbroadband.org.
URL:https://learntelehealth.org/event/fiber-for-breakfast/2023-01-11/
CATEGORIES:Webinar
END:VEVENT
BEGIN:VEVENT
DTSTART;TZID=UTC:20230118T100000
DTEND;TZID=UTC:20230118T110000
DTSTAMP:20260424T212050
CREATED:20220310T014711Z
LAST-MODIFIED:20220310T014711Z
UID:10000708-1674036000-1674039600@learntelehealth.org
SUMMARY:Fiber for Breakfast
DESCRIPTION:The Fiber Broadband Association is proud to announce its weekly live video series\, Fiber for Breakfast. \nFiber for Breakfast is a weekly 30-minute live video discussion hosted by our President and CEO\, Gary Bolton\, and featuring industry thought leaders on current topics that explore fiber as the critical infrastructure for 21st century communications as well as other connectivity and workplace issues presented during these challenging times. \nFiber for Breakfast will take place every Wednesday at 10am ET. Below are the registration links and recordings for each episode. For questions about Fiber for Breakfast or if you are interested in supporting and sponsoring the series\, please contact Jennifer Vassil at jvassil@fiberbroadband.org.
URL:https://learntelehealth.org/event/fiber-for-breakfast/2023-01-18/
CATEGORIES:Webinar
END:VEVENT
BEGIN:VEVENT
DTSTART;TZID=UTC:20230125T100000
DTEND;TZID=UTC:20230125T110000
DTSTAMP:20260424T212050
CREATED:20220310T014711Z
LAST-MODIFIED:20220310T014711Z
UID:10000709-1674640800-1674644400@learntelehealth.org
SUMMARY:Fiber for Breakfast
DESCRIPTION:The Fiber Broadband Association is proud to announce its weekly live video series\, Fiber for Breakfast. \nFiber for Breakfast is a weekly 30-minute live video discussion hosted by our President and CEO\, Gary Bolton\, and featuring industry thought leaders on current topics that explore fiber as the critical infrastructure for 21st century communications as well as other connectivity and workplace issues presented during these challenging times. \nFiber for Breakfast will take place every Wednesday at 10am ET. Below are the registration links and recordings for each episode. For questions about Fiber for Breakfast or if you are interested in supporting and sponsoring the series\, please contact Jennifer Vassil at jvassil@fiberbroadband.org.
URL:https://learntelehealth.org/event/fiber-for-breakfast/2023-01-25/
CATEGORIES:Webinar
END:VEVENT
BEGIN:VEVENT
DTSTART;TZID=UTC:20230127T130000
DTEND;TZID=UTC:20230127T140000
DTSTAMP:20260424T212050
CREATED:20221221T025806Z
LAST-MODIFIED:20221221T025806Z
UID:10000784-1674824400-1674828000@learntelehealth.org
SUMMARY:Telehealth 101 - Intro and Q&A
DESCRIPTION:New to telehealth and telemedicine? Interested in a high overview of digital health in general. Learn basic definitions\, applications\, and technology when it comes to telehealth. Click on the link below to register: \nhttps://uams.zoom.us/webinar/register/WN_SgNeQYrZSw6D0Bvnakktfg \n  \nFor more information\, contact Joe Schaffner: jschaffner@uams.edu.
URL:https://learntelehealth.org/event/telehealth-101-intro-and-qa-5/
CATEGORIES:Webinar
ATTACH;FMTTYPE=image/png:https://learntelehealth.org/wp-content/uploads/2024/02/TH-101-Featured-Image-1.png
END:VEVENT
END:VCALENDAR