BEGIN:VCALENDAR
VERSION:2.0
PRODID:-//LearnTelehealth - ECPv6.15.13.1//NONSGML v1.0//EN
CALSCALE:GREGORIAN
METHOD:PUBLISH
X-WR-CALNAME:LearnTelehealth
X-ORIGINAL-URL:https://learntelehealth.org
X-WR-CALDESC:Events for LearnTelehealth
REFRESH-INTERVAL;VALUE=DURATION:PT1H
X-Robots-Tag:noindex
X-PUBLISHED-TTL:PT1H
BEGIN:VTIMEZONE
TZID:UTC
BEGIN:STANDARD
TZOFFSETFROM:+0000
TZOFFSETTO:+0000
TZNAME:UTC
DTSTART:20210101T000000
END:STANDARD
END:VTIMEZONE
BEGIN:VTIMEZONE
TZID:America/Chicago
BEGIN:DAYLIGHT
TZOFFSETFROM:-0600
TZOFFSETTO:-0500
TZNAME:CDT
DTSTART:20210314T080000
END:DAYLIGHT
BEGIN:STANDARD
TZOFFSETFROM:-0500
TZOFFSETTO:-0600
TZNAME:CST
DTSTART:20211107T070000
END:STANDARD
BEGIN:DAYLIGHT
TZOFFSETFROM:-0600
TZOFFSETTO:-0500
TZNAME:CDT
DTSTART:20220313T080000
END:DAYLIGHT
BEGIN:STANDARD
TZOFFSETFROM:-0500
TZOFFSETTO:-0600
TZNAME:CST
DTSTART:20221106T070000
END:STANDARD
BEGIN:DAYLIGHT
TZOFFSETFROM:-0600
TZOFFSETTO:-0500
TZNAME:CDT
DTSTART:20230312T080000
END:DAYLIGHT
BEGIN:STANDARD
TZOFFSETFROM:-0500
TZOFFSETTO:-0600
TZNAME:CST
DTSTART:20231105T070000
END:STANDARD
END:VTIMEZONE
BEGIN:VEVENT
DTSTART;TZID=UTC:20221102T100000
DTEND;TZID=UTC:20221102T110000
DTSTAMP:20260425T140723
CREATED:20220310T014711Z
LAST-MODIFIED:20220310T014711Z
UID:10000697-1667383200-1667386800@learntelehealth.org
SUMMARY:Fiber for Breakfast
DESCRIPTION:The Fiber Broadband Association is proud to announce its weekly live video series\, Fiber for Breakfast. \nFiber for Breakfast is a weekly 30-minute live video discussion hosted by our President and CEO\, Gary Bolton\, and featuring industry thought leaders on current topics that explore fiber as the critical infrastructure for 21st century communications as well as other connectivity and workplace issues presented during these challenging times. \nFiber for Breakfast will take place every Wednesday at 10am ET. Below are the registration links and recordings for each episode. For questions about Fiber for Breakfast or if you are interested in supporting and sponsoring the series\, please contact Jennifer Vassil at jvassil@fiberbroadband.org.
URL:https://learntelehealth.org/event/fiber-for-breakfast/2022-11-02/
CATEGORIES:Webinar
END:VEVENT
BEGIN:VEVENT
DTSTART;TZID=UTC:20221109T100000
DTEND;TZID=UTC:20221109T110000
DTSTAMP:20260425T140723
CREATED:20220310T014711Z
LAST-MODIFIED:20220310T014711Z
UID:10000698-1667988000-1667991600@learntelehealth.org
SUMMARY:Fiber for Breakfast
DESCRIPTION:The Fiber Broadband Association is proud to announce its weekly live video series\, Fiber for Breakfast. \nFiber for Breakfast is a weekly 30-minute live video discussion hosted by our President and CEO\, Gary Bolton\, and featuring industry thought leaders on current topics that explore fiber as the critical infrastructure for 21st century communications as well as other connectivity and workplace issues presented during these challenging times. \nFiber for Breakfast will take place every Wednesday at 10am ET. Below are the registration links and recordings for each episode. For questions about Fiber for Breakfast or if you are interested in supporting and sponsoring the series\, please contact Jennifer Vassil at jvassil@fiberbroadband.org.
URL:https://learntelehealth.org/event/fiber-for-breakfast/2022-11-09/
CATEGORIES:Webinar
END:VEVENT
BEGIN:VEVENT
DTSTART;VALUE=DATE:20221116
DTEND;VALUE=DATE:20221119
DTSTAMP:20260425T140723
CREATED:20220712T211516Z
LAST-MODIFIED:20220712T211516Z
UID:10000780-1668556800-1668815999@learntelehealth.org
SUMMARY:SEARCH 2022 | The National Telehealth Research Symposium
DESCRIPTION:
URL:https://learntelehealth.org/event/search-2022-the-national-telehealth-research-symposium/
LOCATION:Webinar
ORGANIZER;CN="Society for Education and the Advancement of Research in Connected Health":MAILTO:info@searchsociety.org
END:VEVENT
BEGIN:VEVENT
DTSTART;TZID=UTC:20221116T100000
DTEND;TZID=UTC:20221116T110000
DTSTAMP:20260425T140723
CREATED:20220310T014711Z
LAST-MODIFIED:20220310T014711Z
UID:10000699-1668592800-1668596400@learntelehealth.org
SUMMARY:Fiber for Breakfast
DESCRIPTION:The Fiber Broadband Association is proud to announce its weekly live video series\, Fiber for Breakfast. \nFiber for Breakfast is a weekly 30-minute live video discussion hosted by our President and CEO\, Gary Bolton\, and featuring industry thought leaders on current topics that explore fiber as the critical infrastructure for 21st century communications as well as other connectivity and workplace issues presented during these challenging times. \nFiber for Breakfast will take place every Wednesday at 10am ET. Below are the registration links and recordings for each episode. For questions about Fiber for Breakfast or if you are interested in supporting and sponsoring the series\, please contact Jennifer Vassil at jvassil@fiberbroadband.org.
URL:https://learntelehealth.org/event/fiber-for-breakfast/2022-11-16/
CATEGORIES:Webinar
END:VEVENT
BEGIN:VEVENT
DTSTART;TZID=America/Chicago:20221118T130000
DTEND;TZID=America/Chicago:20221118T140000
DTSTAMP:20260425T140723
CREATED:20220202T013558Z
LAST-MODIFIED:20220202T013558Z
UID:10000628-1668776400-1668780000@learntelehealth.org
SUMMARY:Telehealth 101 - Intro and Q&A
DESCRIPTION:New to telehealth and telemedicine? Interested in a high overview of digital health in general. Learn basic definitions\, applications\, and technology when it comes to telehealth. Click on the link below to register: \nhttps://uams.zoom.us/webinar/register/WN_B0Aj_etATUWpR9vYIM-ODA \n  \nFor more information\, contact Joe Schaffner: jschaffner@uams.edu.
URL:https://learntelehealth.org/event/telehealth-101-intro-and-qa-2/
CATEGORIES:Webinar
END:VEVENT
BEGIN:VEVENT
DTSTART;TZID=UTC:20221123T100000
DTEND;TZID=UTC:20221123T110000
DTSTAMP:20260425T140723
CREATED:20220310T014711Z
LAST-MODIFIED:20220310T014711Z
UID:10000700-1669197600-1669201200@learntelehealth.org
SUMMARY:Fiber for Breakfast
DESCRIPTION:The Fiber Broadband Association is proud to announce its weekly live video series\, Fiber for Breakfast. \nFiber for Breakfast is a weekly 30-minute live video discussion hosted by our President and CEO\, Gary Bolton\, and featuring industry thought leaders on current topics that explore fiber as the critical infrastructure for 21st century communications as well as other connectivity and workplace issues presented during these challenging times. \nFiber for Breakfast will take place every Wednesday at 10am ET. Below are the registration links and recordings for each episode. For questions about Fiber for Breakfast or if you are interested in supporting and sponsoring the series\, please contact Jennifer Vassil at jvassil@fiberbroadband.org.
URL:https://learntelehealth.org/event/fiber-for-breakfast/2022-11-23/
CATEGORIES:Webinar
END:VEVENT
BEGIN:VEVENT
DTSTART;TZID=UTC:20221130T100000
DTEND;TZID=UTC:20221130T110000
DTSTAMP:20260425T140723
CREATED:20220310T014711Z
LAST-MODIFIED:20220310T014711Z
UID:10000701-1669802400-1669806000@learntelehealth.org
SUMMARY:Fiber for Breakfast
DESCRIPTION:The Fiber Broadband Association is proud to announce its weekly live video series\, Fiber for Breakfast. \nFiber for Breakfast is a weekly 30-minute live video discussion hosted by our President and CEO\, Gary Bolton\, and featuring industry thought leaders on current topics that explore fiber as the critical infrastructure for 21st century communications as well as other connectivity and workplace issues presented during these challenging times. \nFiber for Breakfast will take place every Wednesday at 10am ET. Below are the registration links and recordings for each episode. For questions about Fiber for Breakfast or if you are interested in supporting and sponsoring the series\, please contact Jennifer Vassil at jvassil@fiberbroadband.org.
URL:https://learntelehealth.org/event/fiber-for-breakfast/2022-11-30/
CATEGORIES:Webinar
END:VEVENT
END:VCALENDAR