BEGIN:VCALENDAR
VERSION:2.0
PRODID:-//LearnTelehealth - ECPv6.15.13.1//NONSGML v1.0//EN
CALSCALE:GREGORIAN
METHOD:PUBLISH
X-WR-CALNAME:LearnTelehealth
X-ORIGINAL-URL:https://learntelehealth.org
X-WR-CALDESC:Events for LearnTelehealth
REFRESH-INTERVAL;VALUE=DURATION:PT1H
X-Robots-Tag:noindex
X-PUBLISHED-TTL:PT1H
BEGIN:VTIMEZONE
TZID:America/Chicago
BEGIN:DAYLIGHT
TZOFFSETFROM:-0600
TZOFFSETTO:-0500
TZNAME:CDT
DTSTART:20150308T080000
END:DAYLIGHT
BEGIN:STANDARD
TZOFFSETFROM:-0500
TZOFFSETTO:-0600
TZNAME:CST
DTSTART:20151101T070000
END:STANDARD
BEGIN:DAYLIGHT
TZOFFSETFROM:-0600
TZOFFSETTO:-0500
TZNAME:CDT
DTSTART:20160313T080000
END:DAYLIGHT
BEGIN:STANDARD
TZOFFSETFROM:-0500
TZOFFSETTO:-0600
TZNAME:CST
DTSTART:20161106T070000
END:STANDARD
BEGIN:DAYLIGHT
TZOFFSETFROM:-0600
TZOFFSETTO:-0500
TZNAME:CDT
DTSTART:20170312T080000
END:DAYLIGHT
BEGIN:STANDARD
TZOFFSETFROM:-0500
TZOFFSETTO:-0600
TZNAME:CST
DTSTART:20171105T070000
END:STANDARD
END:VTIMEZONE
BEGIN:VTIMEZONE
TZID:America/New_York
BEGIN:DAYLIGHT
TZOFFSETFROM:-0500
TZOFFSETTO:-0400
TZNAME:EDT
DTSTART:20150308T070000
END:DAYLIGHT
BEGIN:STANDARD
TZOFFSETFROM:-0400
TZOFFSETTO:-0500
TZNAME:EST
DTSTART:20151101T060000
END:STANDARD
BEGIN:DAYLIGHT
TZOFFSETFROM:-0500
TZOFFSETTO:-0400
TZNAME:EDT
DTSTART:20160313T070000
END:DAYLIGHT
BEGIN:STANDARD
TZOFFSETFROM:-0400
TZOFFSETTO:-0500
TZNAME:EST
DTSTART:20161106T060000
END:STANDARD
BEGIN:DAYLIGHT
TZOFFSETFROM:-0500
TZOFFSETTO:-0400
TZNAME:EDT
DTSTART:20170312T070000
END:DAYLIGHT
BEGIN:STANDARD
TZOFFSETFROM:-0400
TZOFFSETTO:-0500
TZNAME:EST
DTSTART:20171105T060000
END:STANDARD
END:VTIMEZONE
BEGIN:VEVENT
DTSTART;TZID=America/Chicago:20160122T080000
DTEND;TZID=America/Chicago:20160122T170000
DTSTAMP:20260422T104758
CREATED:20160106T225001Z
LAST-MODIFIED:20160106T225001Z
UID:10000385-1453449600-1453482000@learntelehealth.org
SUMMARY:Webinar: Teledermatology
DESCRIPTION:“Teledermatology Webinar Series – Update on Telehealth Policy” \nGary Capistrant\, ATA’s Chief Policy Officer\, will review telehealth policy advances in 2015 and discuss opportunities and prospects for 2016. Presenter Gary Capistrant Chief Policy Officer\, American Telemedicine Association \nClick Here To Register \n 
URL:https://learntelehealth.org/event/7868/
END:VEVENT
BEGIN:VEVENT
DTSTART;TZID=America/New_York:20160113T110000
DTEND;TZID=America/New_York:20160113T120000
DTSTAMP:20260422T104758
CREATED:20160106T224145Z
LAST-MODIFIED:20160106T224145Z
UID:10000384-1452682800-1452686400@learntelehealth.org
SUMMARY:Webinar
DESCRIPTION:“Federal Legislative Update in Rural Health and Rural Telemedicine” \nTo Register: \nhttps://events.r20.constantcontact.com/register/eventReg?oeidk=a07ec08a1lha913ca2b&oseq=&c=&ch= \n 
URL:https://learntelehealth.org/event/webinar-update-in-rural-healthfederal-legislative-and-rural-telemedicine/
END:VEVENT
BEGIN:VEVENT
DTSTART;TZID=America/Chicago:20160111T120000
DTEND;TZID=America/Chicago:20160111T130000
DTSTAMP:20260422T104758
CREATED:20150608T211812Z
LAST-MODIFIED:20150608T211812Z
UID:10000379-1452513600-1452517200@learntelehealth.org
SUMMARY:Telehealth 101: The Easy Basics of Telehealth & Telemedicine
DESCRIPTION:Every Second Monday\, 12:00 pm CST \nPresented by:\nKimberly McKee\, MS\nOutreach Specialist –\nSouth Central Telehealth Resource Center \nhttps://attendee.gotowebinar.com/register/3992976903412172546 \n 
URL:https://learntelehealth.org/event/telehealth-101-the-easy-basics-of-telehealth-telemedicine-2016-01-11-2/
LOCATION:Online
CATEGORIES:Webinar
END:VEVENT
END:VCALENDAR