BEGIN:VCALENDAR
VERSION:2.0
PRODID:-//LearnTelehealth - ECPv6.15.13.1//NONSGML v1.0//EN
CALSCALE:GREGORIAN
METHOD:PUBLISH
X-WR-CALNAME:LearnTelehealth
X-ORIGINAL-URL:https://learntelehealth.org
X-WR-CALDESC:Events for LearnTelehealth
REFRESH-INTERVAL;VALUE=DURATION:PT1H
X-Robots-Tag:noindex
X-PUBLISHED-TTL:PT1H
BEGIN:VTIMEZONE
TZID:America/Chicago
BEGIN:DAYLIGHT
TZOFFSETFROM:-0600
TZOFFSETTO:-0500
TZNAME:CDT
DTSTART:20150308T080000
END:DAYLIGHT
BEGIN:STANDARD
TZOFFSETFROM:-0500
TZOFFSETTO:-0600
TZNAME:CST
DTSTART:20151101T070000
END:STANDARD
BEGIN:DAYLIGHT
TZOFFSETFROM:-0600
TZOFFSETTO:-0500
TZNAME:CDT
DTSTART:20160313T080000
END:DAYLIGHT
BEGIN:STANDARD
TZOFFSETFROM:-0500
TZOFFSETTO:-0600
TZNAME:CST
DTSTART:20161106T070000
END:STANDARD
BEGIN:DAYLIGHT
TZOFFSETFROM:-0600
TZOFFSETTO:-0500
TZNAME:CDT
DTSTART:20170312T080000
END:DAYLIGHT
BEGIN:STANDARD
TZOFFSETFROM:-0500
TZOFFSETTO:-0600
TZNAME:CST
DTSTART:20171105T070000
END:STANDARD
BEGIN:DAYLIGHT
TZOFFSETFROM:-0600
TZOFFSETTO:-0500
TZNAME:CDT
DTSTART:20180311T080000
END:DAYLIGHT
BEGIN:STANDARD
TZOFFSETFROM:-0500
TZOFFSETTO:-0600
TZNAME:CST
DTSTART:20181104T070000
END:STANDARD
END:VTIMEZONE
BEGIN:VTIMEZONE
TZID:America/New_York
BEGIN:DAYLIGHT
TZOFFSETFROM:-0500
TZOFFSETTO:-0400
TZNAME:EDT
DTSTART:20150308T070000
END:DAYLIGHT
BEGIN:STANDARD
TZOFFSETFROM:-0400
TZOFFSETTO:-0500
TZNAME:EST
DTSTART:20151101T060000
END:STANDARD
BEGIN:DAYLIGHT
TZOFFSETFROM:-0500
TZOFFSETTO:-0400
TZNAME:EDT
DTSTART:20160313T070000
END:DAYLIGHT
BEGIN:STANDARD
TZOFFSETFROM:-0400
TZOFFSETTO:-0500
TZNAME:EST
DTSTART:20161106T060000
END:STANDARD
BEGIN:DAYLIGHT
TZOFFSETFROM:-0500
TZOFFSETTO:-0400
TZNAME:EDT
DTSTART:20170312T070000
END:DAYLIGHT
BEGIN:STANDARD
TZOFFSETFROM:-0400
TZOFFSETTO:-0500
TZNAME:EST
DTSTART:20171105T060000
END:STANDARD
END:VTIMEZONE
BEGIN:VEVENT
DTSTART;TZID=America/Chicago:20170110T120000
DTEND;TZID=America/Chicago:20170110T130000
DTSTAMP:20260421T084031
CREATED:20160822T232648Z
LAST-MODIFIED:20160822T232648Z
UID:10000402-1484049600-1484053200@learntelehealth.org
SUMMARY:Telehealth 101: The Easy Basics of Telehealth and Telemedicine
DESCRIPTION:Every Second Tuesday\, 12:00 pm CST \nPresented by:\nKimberly McKee\, MS\nOutreach Specialist –\nSouth Central Telehealth Resource Center \nRegister here!
URL:https://learntelehealth.org/event/telehealth-101-easy-basics-telehealth-telemedicine-5/
LOCATION:TN
END:VEVENT
BEGIN:VEVENT
DTSTART;TZID=America/Chicago:20161211T090000
DTEND;TZID=America/Chicago:20161214T170000
DTSTAMP:20260421T084031
CREATED:20161129T223638Z
LAST-MODIFIED:20161129T223638Z
UID:10000411-1481446800-1481734800@learntelehealth.org
SUMMARY:Connected Health Conference
DESCRIPTION:The Connected Health Conference is the largest and most diverse gathering of public sector and health and technology industry leaders working at the intersection of innovative product and service development\, research\, business and policy throughout the world. Building thought leadership across the ecosystem\, this year’s Conference focuses on an increasingly consumer-centered\, technology-enabled and collaborative approach to improving health. Each component — from keynotes\, panel discussions\, interactive sessions\, roundtables and the dynamic exhibit floor — focuses on new research and actionable knowledge such as best practices\, lessons learned and conclusive case studies. \nPre-conference providing a deep dive into key topics\nFour content tracks bringing diverse perspectives\, sparking meaningful discussion and advancing new solutions around key issues such as behavior change\, real time intervention\, design\, collaboration\, data science\, disparities\, policy\, interoperability\, ethics\, privacy and security\, and more\nCo-located at the Conference is the Global Digital Health Forum\, addressing digital health in low- and middle-income countries\nNumerous opportunities for networking\nAttendees will have the unique opportunity to learn and develop skills that can be immediately applied to the adoption and implementation of personal connected health in community and public health\, as well as healthcare settings.  \nIn addition\, this year’s immersive\, experiential expo is designed for maximum interaction\, showcasing settings where connected health can be delivered — beyond a clinic’s four walls — to create a renewed emphasis on consumers as the drivers of their health outcomes.  The exhibit floor will feature vibrant\, thematic pavilions to facilitate unique\, hands-on demonstrations\, stimulate engagement with attendees\, build relationships and generate new business and partnership opportunities. \nThe 2016 Connected Health Conference provides the platform for the exchange of research\, evidence\, ideas\, innovations and opportunities in connected health.
URL:https://learntelehealth.org/event/connected-health-conference/
LOCATION:Gaylord National\, DC\, United States
GEO:38.9071923;-77.0368707
END:VEVENT
BEGIN:VEVENT
DTSTART;TZID=America/Chicago:20161118T120000
DTEND;TZID=America/Chicago:20161118T130000
DTSTAMP:20260421T084031
CREATED:20161024T221536Z
LAST-MODIFIED:20161024T221536Z
UID:10000410-1479470400-1479474000@learntelehealth.org
SUMMARY:Mississippi Rural Health Day Reception
DESCRIPTION:In celebration of Mississippi Rural Health Day\, the Association will host a reception to honor Governor Phil Bryant and select clinics and hospitals throughout Mississippi that have shown excellent dedication to quality. \nThe names of the clinics and hospitals to receive awards will be announced soon. \nBusiness to business casual attire is requested for the reception. \nThere is no cost to attend the reception\, and heavy hors d’oeuvres will be served. This event is presented by the State Office of Rural Health and Primary Care. \nRegister
URL:https://learntelehealth.org/event/mississippi-rural-health-day-reception/
LOCATION:Lake Terrace Convention Center\, 1 Convention Center Plaza\, Hattiesburg\, MS\, 39401\, United States
GEO:31.3554298;-89.3409149
X-APPLE-STRUCTURED-LOCATION;VALUE=URI;X-ADDRESS=Lake Terrace Convention Center 1 Convention Center Plaza Hattiesburg MS 39401 United States;X-APPLE-RADIUS=500;X-TITLE=1 Convention Center Plaza:geo:-89.3409149,31.3554298
END:VEVENT
BEGIN:VEVENT
DTSTART;TZID=America/New_York:20161117T080000
DTEND;TZID=America/New_York:20161118T170000
DTSTAMP:20260421T084031
CREATED:20160810T012423Z
LAST-MODIFIED:20160810T012423Z
UID:10000394-1479369600-1479488400@learntelehealth.org
SUMMARY:CTel Fall Summit 2016: Executive Telehealth
DESCRIPTION:The CTeL Executive Telehealth Fall Summit 2016 \nNovember 17-18 in Washington\, DC \nThe Most Substantive Dialogue in Telemedicine \nJoin Fortune 500 executives\, health system CEOs and CMOs\, and government change-agents at the CTeL table. \nCTeL Summits are conversations\, not conferences. Attendance is limited so that we maintain a dialogue.  CTeL does not accept vendor or sponsorship funds in order to keep the agenda and sessions neutral. \nNo one else is having these conversations in this way and with this many game-changers\, innovators\, and decision-makers in the room. \nThe CTeL Summit will change the way you see telehealth in 2017 and beyond. You will gain invaluable knowledge that will give you a professional edge. \nHere’s a snapshot of topics to expect at the November 17-18 Summit: \n\nReimbursement: Getting Paid in the Age of Pay for Performance\nHeld for Ransom: Protect Yourself Against Cybersecurity Threats\nCTeL 50 State Research Review of Telemedicine Regulations\nThe Social Network Practitioner: What Constitutes Treating a Patient?\nMalpractice Carriers’ View of Telemedicine: Risk and Liability Exposure Assessment\n\nEarly Bird Registration Now Open – Save 25%! \nFor questions or support\, please contact CTeL at 202-499-6970
URL:https://learntelehealth.org/event/ctel-fall-summit-2016-executive-telehealth/
LOCATION:Marriott Marquis hotel\, 901 Massachusetts Avenue\, NW\, Washington DC\, DC\, 20001\, United States
ORGANIZER;CN="CTel":MAILTO:info@ctel.org
GEO:38.9035785;-77.0249097
X-APPLE-STRUCTURED-LOCATION;VALUE=URI;X-ADDRESS=Marriott Marquis hotel 901 Massachusetts Avenue NW Washington DC DC 20001 United States;X-APPLE-RADIUS=500;X-TITLE=901 Massachusetts Avenue\, NW:geo:-77.0249097,38.9035785
END:VEVENT
BEGIN:VEVENT
DTSTART;TZID=America/Chicago:20161116T080000
DTEND;TZID=America/Chicago:20161118T170000
DTSTAMP:20260421T084031
CREATED:20160811T205819Z
LAST-MODIFIED:20160811T205819Z
UID:10000395-1479283200-1479488400@learntelehealth.org
SUMMARY:Rural Health Association of Tennessee Annual Conference
DESCRIPTION:
URL:https://learntelehealth.org/event/rural-health-association-tennessee-annual-conference/
LOCATION:Music Road Hotel and Convention Center
ATTACH;FMTTYPE=image/jpeg:https://learntelehealth.org/wp-content/uploads/2024/02/logo-tn.jpg
END:VEVENT
BEGIN:VEVENT
DTSTART;TZID=America/Chicago:20161110T130000
DTEND;TZID=America/Chicago:20161110T140000
DTSTAMP:20260421T084031
CREATED:20161019T011338Z
LAST-MODIFIED:20161019T011338Z
UID:10000409-1478782800-1478786400@learntelehealth.org
SUMMARY:Webinar: Transforming Medical Nutrition via Telehealth
DESCRIPTION:The National Telehealth Webinar Series\nPresented by the National Consortium of Telehealth Resource Centers \n“Transforming Medical Nutrition Therapy via Telehealth”\nThursday\, November 10\, 2016\n9:00 AM HST\, 10:00 AM AKST\, 11:00 AM PDT\, 12:00 PM MDT\, 1:00 PM CDT\, 2:00 PM EDT \nPresented by:\nSouth Central Telehealth Resource Center \nPresenter:\nDee Pratt\, RDN\, LDN \nObjectives:\n1. How Tele-nutrition fits in Tele-health\n2. Reimbursement of services for Dietitian Nutritionists\n3. Effectiveness of Medical Nutrition Therapy on patient outcomes\, and\n4. How Tele-Nutrition can help reduce costs in healthcare clinics. \nTo register for this webinar:\nhttps://umtrc.zoom.us/webinar/register/98175a09e8f6d33b34538d7d4481ef37 \nThe National Telehealth Webinar Series provides timely information to support and guide the development of your telehealth program by experienced telehealth professionals from the HRSA-designated Telehealth Resource Centers. \nThese webinars are FREE to the public and generally hosted on the 3rd Thursday of each month. \nThe National Consortium of Telehealth Resource Centers:
URL:https://learntelehealth.org/event/webinar-transforming-medical-nutrition-via-telehealth/
LOCATION:TN
CATEGORIES:Webinar
END:VEVENT
BEGIN:VEVENT
DTSTART;TZID=America/Chicago:20161108T120000
DTEND;TZID=America/Chicago:20161108T130000
DTSTAMP:20260421T084031
CREATED:20160822T232347Z
LAST-MODIFIED:20160822T232347Z
UID:10000400-1478606400-1478610000@learntelehealth.org
SUMMARY:Telehealth 101: The Easy Basics of Telehealth and Telemedicine
DESCRIPTION:Every Second Tuesday\, 12:00 pm CST \nPresented by:\nKimberly McKee\, MS\nOutreach Specialist –\nSouth Central Telehealth Resource Center \nhttps://attendee.gotowebinar.com/rt/5472864579548329985
URL:https://learntelehealth.org/event/telehealth-101-easy-basics-telehealth-telemedicine-3/
LOCATION:TN
ORGANIZER;CN="Kim McKee":MAILTO:kkmckee@uams.edu
END:VEVENT
BEGIN:VEVENT
DTSTART;TZID=America/Chicago:20161011T120000
DTEND;TZID=America/Chicago:20161011T130000
DTSTAMP:20260421T084031
CREATED:20160822T232203Z
LAST-MODIFIED:20160822T232203Z
UID:10000399-1476187200-1476190800@learntelehealth.org
SUMMARY:Telehealth 101: The Easy Basics of Telehealth and Telemedicine
DESCRIPTION:Every Second Tuesday\, 12:00 pm CST \nPresented by:\nKimberly McKee\, MS\nOutreach Specialist –\nSouth Central Telehealth Resource Center \nhttps://attendee.gotowebinar.com/rt/5472864579548329985
URL:https://learntelehealth.org/event/telehealth-101-easy-basics-telehealth-telemedicine-2/
LOCATION:TN
ORGANIZER;CN="Kim McKee":MAILTO:kkmckee@uams.edu
END:VEVENT
BEGIN:VEVENT
DTSTART;TZID=America/Chicago:20161005T080000
DTEND;TZID=America/Chicago:20161007T170000
DTSTAMP:20260421T084031
CREATED:20160811T210325Z
LAST-MODIFIED:20160811T210325Z
UID:10000397-1475654400-1475859600@learntelehealth.org
SUMMARY:Mississippi Rural Health Association 21st Annual Conference
DESCRIPTION:
URL:https://learntelehealth.org/event/mississippi-rural-health-association-21st-annual-conference/
LOCATION:Jackson\, Mississippi
GEO:32.2987573;-90.1848103
END:VEVENT
BEGIN:VEVENT
DTSTART;TZID=America/Chicago:20160913T120000
DTEND;TZID=America/Chicago:20160913T130000
DTSTAMP:20260421T084031
CREATED:20160822T231858Z
LAST-MODIFIED:20160822T231858Z
UID:10000398-1473768000-1473771600@learntelehealth.org
SUMMARY:Telehealth 101: The Easy Basics of Telehealth and Telemedicine
DESCRIPTION:Every Second Tuesday\, 12:00 pm CST \nPresented by:\nKimberly McKee\, MS\nOutreach Specialist –\nSouth Central Telehealth Resource Center \nhttps://attendee.gotowebinar.com/rt/5472864579548329985
URL:https://learntelehealth.org/event/telehealth-101-easy-basics-telehealth-telemedicine/
LOCATION:TN
END:VEVENT
BEGIN:VEVENT
DTSTART;TZID=America/Chicago:20160908T080000
DTEND;TZID=America/Chicago:20160908T140000
DTSTAMP:20260421T084031
CREATED:20160811T210148Z
LAST-MODIFIED:20160811T210148Z
UID:10000396-1473321600-1473343200@learntelehealth.org
SUMMARY:C Spire Telehealth Summit
DESCRIPTION:
URL:https://learntelehealth.org/event/c-spire-telehealth-summit/
LOCATION:Jackson Convention Center\, Jackson\, Mississippi
GEO:32.2987573;-90.1848103
END:VEVENT
BEGIN:VEVENT
DTSTART;TZID=America/Chicago:20160721T130000
DTEND;TZID=America/Chicago:20160721T140000
DTSTAMP:20260421T084031
CREATED:20160710T020939Z
LAST-MODIFIED:20160710T020939Z
UID:10000393-1469106000-1469109600@learntelehealth.org
SUMMARY:Changing Healthcare Delivery: UMMC Center for Telehealth on the Rise
DESCRIPTION:The National Telehealth Webinar Series \nPresented by the National Consortium of Telehealth Resource Centers \nChanging Healthcare Delivery:\nUMMC Center for Telehealth on the Rise\nObjectives: \n\nUnderstand the need for telehealth services in rural communities\nIllustrate the cost-effective benefits of a comprehensive program which offers services allowing\nindividuals to remain at home and in their communities\nEvaluate the feasibility of remote patient monitoring versus standard delivery of care in managing\ndiabetes\n\nPresenter: \nMichael P. Adcock\, FACHE\nUMMC Center for Telehealth
URL:https://learntelehealth.org/event/chamging-healthcare-delivery-ummc-center-telehealth-rise/
LOCATION:TN
CATEGORIES:Webinar
END:VEVENT
BEGIN:VEVENT
DTSTART;TZID=America/Chicago:20160616T130000
DTEND;TZID=America/Chicago:20160616T140000
DTSTAMP:20260421T084031
CREATED:20160531T225056Z
LAST-MODIFIED:20160531T225056Z
UID:10000391-1466082000-1466085600@learntelehealth.org
SUMMARY:National Webinar Series: Q& A with the TRCs - Answers to your most burning telehealth questions
DESCRIPTION:Register here: https://umtrc.zoom.us/webinar/register/5fea6dce1b0b502ddc2040ba88984b7b \n 
URL:https://learntelehealth.org/event/national-webinar-series-q-trcs-answers-burning-telehealth-questions/
LOCATION:TN
CATEGORIES:Webinar
END:VEVENT
BEGIN:VEVENT
DTSTART;TZID=America/Chicago:20160614T150000
DTEND;TZID=America/Chicago:20160614T160000
DTSTAMP:20260421T084031
CREATED:20160531T230413Z
LAST-MODIFIED:20160531T230413Z
UID:10000392-1465916400-1465920000@learntelehealth.org
SUMMARY:Quarterly Thought Conference: Safe Telemedicine Practice
DESCRIPTION:Register here: https://attendee.gotowebinar.com/register/1845668080701575427 \n 
URL:https://learntelehealth.org/event/quarterly-thought-conference-safe-telemedicine-practice/
LOCATION:TN
CATEGORIES:Webinar
END:VEVENT
BEGIN:VEVENT
DTSTART;VALUE=DATE:20160519
DTEND;VALUE=DATE:20160521
DTSTAMP:20260421T084031
CREATED:20160106T025119Z
LAST-MODIFIED:20160106T025119Z
UID:10000383-1463616000-1463788799@learntelehealth.org
SUMMARY:Arkansas Trauma Rehabilitation Conference 2016
DESCRIPTION:Jointly provided conference by the Arkansas Trauma Rehabilitation Program and Baptist Health. Keynote Presenter: Dr. Danielle Melton\, MD. \nFor more information about the conference\, contact atrp.info@arkansas.gov. Registration begins in early 2016 and the cost is $50.
URL:https://learntelehealth.org/event/arkansas-trauma-rehabilitation-conference-2016/
LOCATION:TN
END:VEVENT
BEGIN:VEVENT
DTSTART;VALUE=DATE:20160514
DTEND;VALUE=DATE:20160518
DTSTAMP:20260421T084031
CREATED:20151210T230446Z
LAST-MODIFIED:20151210T230446Z
UID:10000382-1463184000-1463529599@learntelehealth.org
SUMMARY:American Telemedicine Association Conference
DESCRIPTION:http://www.americantelemed.org/ata-2016/conference-overview#.VmmwXnarTRZ
URL:https://learntelehealth.org/event/american-telemedicine-association-conference/
LOCATION:TN
END:VEVENT
BEGIN:VEVENT
DTSTART;TZID=America/Chicago:20160506T080000
DTEND;TZID=America/Chicago:20160506T170000
DTSTAMP:20260421T084032
CREATED:20160212T204644Z
LAST-MODIFIED:20240224T051618Z
UID:10000389-1462521600-1462554000@learntelehealth.org
SUMMARY:MS: 3rd Annual Rural Health Clinic Conference
DESCRIPTION:You are invited to join Association members as the Mississippi Rural Health Association hosts the 3rd Annual Rural Health Clinic Conference on Friday\, May 6\, 2016 at the luxurious Jackson Marriott\, located at 200 E. Amite Street in downtown Jackson. \nThis conference is built specifically for Mississippi’s rural health clinics.   \nCEUs are being sought for 7.0 hours of nursing\, 7.0 hours of AAPC\, 7.0 hours of ACHE \, and 7.0 hours of Nursing home admin.  \nThe Mississippi Rural Health Association is authorized to award 7.0 hours of pre-approved ACHE Qualified Education credit for this program toward advancement\, or recertification\, in the American College of Healthcare Executives.  Participants in this program wishing to have the continuing education hours applied toward ACHE Qualified Education credit should indicate their attendance when submitting an application to the American College of Healthcare Executives for advancement or recertification. \nRegistration is $125 per member and $150 per non member (includes a membership registration).  \nPlease contact MRHA anytime at 601.898.3001 or kate.cooley@mississippirural.org for questions or for additional information.
URL:https://learntelehealth.org/event/ms-3rd-annual-rural-health-clinic-conference/
LOCATION:Jackson Marriott\, 200 E. Amite Street\, Jackson\, MS\, United States
ATTACH;FMTTYPE=image/jpeg:https://learntelehealth.org/wp-content/uploads/2024/02/MSRH-logo-e1710190118550.jpg
GEO:32.3014796;-90.1852075
X-APPLE-STRUCTURED-LOCATION;VALUE=URI;X-ADDRESS=Jackson Marriott 200 E. Amite Street Jackson MS United States;X-APPLE-RADIUS=500;X-TITLE=200 E. Amite Street:geo:-90.1852075,32.3014796
END:VEVENT
BEGIN:VEVENT
DTSTART;VALUE=DATE:20160421
DTEND;VALUE=DATE:20160424
DTSTAMP:20260421T084032
CREATED:20151210T230004Z
LAST-MODIFIED:20240224T051602Z
UID:10000381-1461196800-1461455999@learntelehealth.org
SUMMARY:ANIA 2016
DESCRIPTION:
URL:https://learntelehealth.org/event/ania-2016/
LOCATION:TN
ATTACH;FMTTYPE=image/jpeg:https://learntelehealth.org/wp-content/uploads/2024/02/ania.jpg
END:VEVENT
BEGIN:VEVENT
DTSTART;TZID=America/Chicago:20160408T080000
DTEND;TZID=America/Chicago:20160409T170000
DTSTAMP:20260421T084032
CREATED:20160203T005811Z
LAST-MODIFIED:20160203T005811Z
UID:10000388-1460102400-1460221200@learntelehealth.org
SUMMARY:15th Annual Update in Acute and Emergency Care Pediatrics Conference (TN)
DESCRIPTION:The 15 th  Annual Update in Acute and Emergency Care Pediatrics is a result of collaboration between Monroe Carell Jr. Children’s Hospital at Vanderbilt\, Children’s Hospital at Erlanger\, Le Bonheur Children’s Hospital\, East Tennessee Children’s Hospital\, Tennessee Emergency Medical Services for Children (TNEMSC)\, and the East Tennessee State University Quillen College of Medicine Office of Continuing Medical Education. Using interdisciplinary approaches\, presentations will engage attendees to participate in scenario-based learning.  Through a series of plenary and concurrent sessions\, learners will be able to develop skills surrounding pre-hospital care of the medically complex child\, as well as skills for the pediatric trauma patient.
URL:https://learntelehealth.org/event/15th-annual-update-in-acute-and-emergency-care-pediatrics-conference-tn/
LOCATION:Drury Plaza Hotel\, Franklin\, TN\, United States
GEO:35.9250637;-86.8688899
END:VEVENT
BEGIN:VEVENT
DTSTART;TZID=America/Chicago:20160330T083000
DTEND;TZID=America/Chicago:20160330T130000
DTSTAMP:20260421T084032
CREATED:20160314T191509Z
LAST-MODIFIED:20240224T051619Z
UID:10000390-1459326600-1459342800@learntelehealth.org
SUMMARY:Mississippi Telehealth Association (MTHA) State Conference 2016
DESCRIPTION:
URL:https://learntelehealth.org/event/mississippi-telehealth-association-mtha-state-conference-2016/
LOCATION:Jackson Convention Complex\, 105 East Pascagoula Street\, Jackson\, MS\, 39201\, United States
ATTACH;FMTTYPE=image/jpeg:https://learntelehealth.org/wp-content/uploads/2024/02/mtha_conference2016.jpg
GEO:32.2973822;-90.1878499
X-APPLE-STRUCTURED-LOCATION;VALUE=URI;X-ADDRESS=Jackson Convention Complex 105 East Pascagoula Street Jackson MS 39201 United States;X-APPLE-RADIUS=500;X-TITLE=105 East Pascagoula Street:geo:-90.1878499,32.2973822
END:VEVENT
BEGIN:VEVENT
DTSTART;VALUE=DATE:20160229
DTEND;VALUE=DATE:20160305
DTSTAMP:20260421T084032
CREATED:20151210T225253Z
LAST-MODIFIED:20240224T051601Z
UID:10000380-1456704000-1457135999@learntelehealth.org
SUMMARY:HIMSS16
DESCRIPTION: 
URL:https://learntelehealth.org/event/himss16/
LOCATION:Sands Expo\, Las Vegas
ATTACH;FMTTYPE=image/jpeg:https://learntelehealth.org/wp-content/uploads/2024/02/HIMSS_Ad.jpg
GEO:36.1699412;-115.1398296
END:VEVENT
BEGIN:VEVENT
DTSTART;TZID=America/Chicago:20160208T150000
DTEND;TZID=America/Chicago:20160208T160000
DTSTAMP:20260421T084032
CREATED:20160128T223022Z
LAST-MODIFIED:20160128T223022Z
UID:10000387-1454943600-1454947200@learntelehealth.org
SUMMARY:Quarterly Thought Conference
DESCRIPTION:Join us on February 8th at 3:00 pm via Go To Webinar for a talk provide by Dr. Billy Philips. \n  \nPlease register for Quarterly Thought Conference on Feb 8\, 2016 3:00 PM CST at:\nhttps://attendee.gotowebinar.com/register/4260147234466974209 \nAfter registering\, you will receive a confirmation email containing information about joining the webinar.
URL:https://learntelehealth.org/event/quarterly-thought-conference/
LOCATION:TN
END:VEVENT
BEGIN:VEVENT
DTSTART;TZID=America/Chicago:20160208T120000
DTEND;TZID=America/Chicago:20160208T130000
DTSTAMP:20260421T084032
CREATED:20150608T211812Z
LAST-MODIFIED:20150608T211812Z
UID:10000378-1454932800-1454936400@learntelehealth.org
SUMMARY:Telehealth 101: The Easy Basics of Telehealth & Telemedicine
DESCRIPTION:Every Second Monday\, 12:00 pm CST \nPresented by:\nKimberly McKee\, MS\nOutreach Specialist –\nSouth Central Telehealth Resource Center \nRegister: \nhttps://attendee.gotowebinar.com/rt/5472864579548329985 \n 
URL:https://learntelehealth.org/event/telehealth-101-the-easy-basics-of-telehealth-telemedicine-2016-02-08/
LOCATION:Online
CATEGORIES:Webinar
END:VEVENT
BEGIN:VEVENT
DTSTART;TZID=America/Chicago:20160203T080000
DTEND;TZID=America/Chicago:20160203T100000
DTSTAMP:20260421T084032
CREATED:20160107T034901Z
LAST-MODIFIED:20160107T034901Z
UID:10000386-1454486400-1454493600@learntelehealth.org
SUMMARY:National Rural HIT Coalition
DESCRIPTION:Dear Colleagues\, \nYou are invited to participate in the Nation Rural HIT Coalition Face-to-Face meeting during the National Rural Health Association Rural Health Policy Institute. The National Rural HIT Coalition meeting will be held Wednesday\, February 3\, 2016 from 8:00 a.m. to 10:00 a.m. Eastern Time in the Pan American Room at the Capital Hilton in Washington\, DC. \nA detailed agenda will be sent out closer to the date of the meeting. \nWe ask that you confirm your participation by January 15\, 2016. \nIf you would like to attend the February 3rd meeting of the Coalition\, please email Nicole Clement at the National Rural Health Resource Center at nclement@ruralcenter.org. Please note that travel expenses for this meeting are not covered by the Coalition. A conference line will be available if requested. \nThank you to the National Rural Health Association for continuing to provide meeting space for the Coalition. \nThe National Rural HIT Coalition is a network of rural and HIT leaders from organizations at every level\, working together to advance the implementation of HIT across rural America. The Coalition is supported by the Technical Assistance and Services Center (TASC)\, a program of the National Rural Health Resource Center in cooperation with the Federal Office of Rural Health Policy. \nNicole Clement\nNational Rural Health Resource Center\nProgram Coordinator II\n525 S. Lake Avenue\, Suite 320\nDuluth\, MN 55802\nMain: (218) 727-9390\nDirect: (218) 216-7028 \nnclement@ruralcenter.org \nhttp://www.ruralcenter.org
URL:https://learntelehealth.org/event/national-rural-hit-coalition/
LOCATION:TN
END:VEVENT
BEGIN:VEVENT
DTSTART;TZID=America/Chicago:20160122T080000
DTEND;TZID=America/Chicago:20160122T170000
DTSTAMP:20260421T084032
CREATED:20160106T225001Z
LAST-MODIFIED:20160106T225001Z
UID:10000385-1453449600-1453482000@learntelehealth.org
SUMMARY:Webinar: Teledermatology
DESCRIPTION:“Teledermatology Webinar Series – Update on Telehealth Policy” \nGary Capistrant\, ATA’s Chief Policy Officer\, will review telehealth policy advances in 2015 and discuss opportunities and prospects for 2016. Presenter Gary Capistrant Chief Policy Officer\, American Telemedicine Association \nClick Here To Register \n 
URL:https://learntelehealth.org/event/7868/
LOCATION:TN
END:VEVENT
BEGIN:VEVENT
DTSTART;TZID=America/New_York:20160113T110000
DTEND;TZID=America/New_York:20160113T120000
DTSTAMP:20260421T084032
CREATED:20160106T224145Z
LAST-MODIFIED:20160106T224145Z
UID:10000384-1452682800-1452686400@learntelehealth.org
SUMMARY:Webinar
DESCRIPTION:“Federal Legislative Update in Rural Health and Rural Telemedicine” \nTo Register: \nhttps://events.r20.constantcontact.com/register/eventReg?oeidk=a07ec08a1lha913ca2b&oseq=&c=&ch= \n 
URL:https://learntelehealth.org/event/webinar-update-in-rural-healthfederal-legislative-and-rural-telemedicine/
LOCATION:TN
END:VEVENT
BEGIN:VEVENT
DTSTART;TZID=America/Chicago:20160111T120000
DTEND;TZID=America/Chicago:20160111T130000
DTSTAMP:20260421T084032
CREATED:20150608T211812Z
LAST-MODIFIED:20150608T211812Z
UID:10000379-1452513600-1452517200@learntelehealth.org
SUMMARY:Telehealth 101: The Easy Basics of Telehealth & Telemedicine
DESCRIPTION:Every Second Monday\, 12:00 pm CST \nPresented by:\nKimberly McKee\, MS\nOutreach Specialist –\nSouth Central Telehealth Resource Center \nhttps://attendee.gotowebinar.com/register/3992976903412172546 \n 
URL:https://learntelehealth.org/event/telehealth-101-the-easy-basics-of-telehealth-telemedicine-2016-01-11-2/
LOCATION:Online
CATEGORIES:Webinar
END:VEVENT
END:VCALENDAR