BEGIN:VCALENDAR
VERSION:2.0
PRODID:-//LearnTelehealth - ECPv6.15.13.1//NONSGML v1.0//EN
CALSCALE:GREGORIAN
METHOD:PUBLISH
X-ORIGINAL-URL:https://learntelehealth.org
X-WR-CALDESC:Events for LearnTelehealth
REFRESH-INTERVAL;VALUE=DURATION:PT1H
X-Robots-Tag:noindex
X-PUBLISHED-TTL:PT1H
BEGIN:VTIMEZONE
TZID:America/Chicago
BEGIN:DAYLIGHT
TZOFFSETFROM:-0600
TZOFFSETTO:-0500
TZNAME:CDT
DTSTART:20240310T080000
END:DAYLIGHT
BEGIN:STANDARD
TZOFFSETFROM:-0500
TZOFFSETTO:-0600
TZNAME:CST
DTSTART:20241103T070000
END:STANDARD
BEGIN:DAYLIGHT
TZOFFSETFROM:-0600
TZOFFSETTO:-0500
TZNAME:CDT
DTSTART:20250309T080000
END:DAYLIGHT
BEGIN:STANDARD
TZOFFSETFROM:-0500
TZOFFSETTO:-0600
TZNAME:CST
DTSTART:20251102T070000
END:STANDARD
BEGIN:DAYLIGHT
TZOFFSETFROM:-0600
TZOFFSETTO:-0500
TZNAME:CDT
DTSTART:20260308T080000
END:DAYLIGHT
BEGIN:STANDARD
TZOFFSETFROM:-0500
TZOFFSETTO:-0600
TZNAME:CST
DTSTART:20261101T070000
END:STANDARD
END:VTIMEZONE
BEGIN:VEVENT
DTSTART;TZID=America/Chicago:20251210T080000
DTEND;TZID=America/Chicago:20251212T170000
DTSTAMP:20260421T022723
CREATED:20251209T142332Z
LAST-MODIFIED:20251209T142332Z
UID:10001698-1765353600-1765558800@learntelehealth.org
SUMMARY:ATA EDGE 2025 Policy Conference
DESCRIPTION:There’s a lot happening in Washington right now—and it’s reshaping virtual care. New policies. Shifting priorities. Big decisions. A new era of telehealth is being written in real time—and now is the time to make virtual care permanent. \nJoin us at ATA EDGE 2025\, the nation’s premier digital health policy forum\, where healthcare leaders\, policymakers\, and innovators come together to cut through the noise and shape what’s next. From emerging regulations to long-term strategy\, EDGE is where it all comes into focus—and where you need to be. \nEDGE is not just a policy conference—it’s a policy catalyst.This is your front-row seat to a new era of care delivery. Join the leaders driving telehealth forward and leave with the insights and strategies to influence what’s next.
URL:https://learntelehealth.org/event/ata-edge-2025-policy-conference/
CATEGORIES:Meetings & Conferences,Networking Event
ATTACH;FMTTYPE=image/png:https://learntelehealth.org/wp-content/uploads/2025/12/Screenshot-2025-12-09-082247.png
END:VEVENT
BEGIN:VEVENT
DTSTART;TZID=America/Chicago:20251212T130000
DTEND;TZID=America/Chicago:20251212T140000
DTSTAMP:20260421T022723
CREATED:20251209T143951Z
LAST-MODIFIED:20251209T143951Z
UID:10001701-1765544400-1765548000@learntelehealth.org
SUMMARY:TeleBehavioral Health 2025: Adapting Cognitive Behavioral Therapy for Psychosis (CBTp) for Telehealth Delivery
DESCRIPTION:TeleBehavioral Health 2025 Training Series is a free twelve-part webinar series open to anyone providing services to individuals who live with mental health and substance use issues. This Zoom-based series takes place the third Friday of each month\, January through December 2025\, from 11 am – 12 pm (PT). You are invited to attend all webinars\, but you will need to register for each webinar separately.
URL:https://learntelehealth.org/event/telebehavioral-health-2025-adapting-cognitive-behavioral-therapy-for-psychosis-cbtp-for-telehealth-delivery/
CATEGORIES:Webinar
ATTACH;FMTTYPE=image/png:https://learntelehealth.org/wp-content/uploads/2025/12/Screenshot-2025-12-09-083806.png
END:VEVENT
END:VCALENDAR