BEGIN:VCALENDAR
VERSION:2.0
PRODID:-//LearnTelehealth - ECPv6.15.13.1//NONSGML v1.0//EN
CALSCALE:GREGORIAN
METHOD:PUBLISH
X-ORIGINAL-URL:https://learntelehealth.org
X-WR-CALDESC:Events for LearnTelehealth
REFRESH-INTERVAL;VALUE=DURATION:PT1H
X-Robots-Tag:noindex
X-PUBLISHED-TTL:PT1H
BEGIN:VTIMEZONE
TZID:UTC
BEGIN:STANDARD
TZOFFSETFROM:+0000
TZOFFSETTO:+0000
TZNAME:UTC
DTSTART:20220101T000000
END:STANDARD
END:VTIMEZONE
BEGIN:VEVENT
DTSTART;VALUE=DATE:20231010
DTEND;VALUE=DATE:20231013
DTSTAMP:20260423T164900
CREATED:20230517T154907Z
LAST-MODIFIED:20240224T052339Z
UID:10000812-1696896000-1697155199@learntelehealth.org
SUMMARY:AnchorNETS - 11th Annual SHLB Conference
DESCRIPTION:
URL:https://learntelehealth.org/event/anchornets-11th-annual-shlb-conference/
CATEGORIES:Meetings & Conferences
ATTACH;FMTTYPE=image/webp:https://learntelehealth.org/wp-content/uploads/2024/02/806ff6c1d7cc43d48ebc03575b34bf21_96f86aa6925d14ae480749f3b1a325f7.png
ORGANIZER;CN="Schools%2C Health & Libraries Broadband Coalition":MAILTO:info@shlb.org
END:VEVENT
END:VCALENDAR