BEGIN:VCALENDAR
VERSION:2.0
PRODID:-//LearnTelehealth - ECPv6.15.13.1//NONSGML v1.0//EN
CALSCALE:GREGORIAN
METHOD:PUBLISH
X-ORIGINAL-URL:https://learntelehealth.org
X-WR-CALDESC:Events for LearnTelehealth
REFRESH-INTERVAL;VALUE=DURATION:PT1H
X-Robots-Tag:noindex
X-PUBLISHED-TTL:PT1H
BEGIN:VTIMEZONE
TZID:UTC
BEGIN:STANDARD
TZOFFSETFROM:+0000
TZOFFSETTO:+0000
TZNAME:UTC
DTSTART:20220101T000000
END:STANDARD
END:VTIMEZONE
BEGIN:VEVENT
DTSTART;TZID=UTC:20230929T130000
DTEND;TZID=UTC:20230929T140000
DTSTAMP:20260423T181843
CREATED:20221221T031617Z
LAST-MODIFIED:20221221T031617Z
UID:10000788-1695992400-1695996000@learntelehealth.org
SUMMARY:Telehealth 101 - Intro and Q&A
DESCRIPTION:New to telehealth and telemedicine? Interested in a high overview of digital health in general. Learn basic definitions\, applications\, and technology when it comes to telehealth. Click on the link below to register: \nhttps://uams.zoom.us/webinar/register/WN_SgNeQYrZSw6D0Bvnakktfg \n  \nFor more information\, contact Joe Schaffner: jschaffner@uams.edu.
URL:https://learntelehealth.org/event/telehealth-101-intro-and-qa-13/
LOCATION:Webinar
CATEGORIES:Webinar
ATTACH;FMTTYPE=image/png:https://learntelehealth.org/wp-content/uploads/2024/02/TH-101-Featured-Image-1.png
END:VEVENT
END:VCALENDAR