BEGIN:VCALENDAR
VERSION:2.0
PRODID:-//LearnTelehealth - ECPv6.15.13.1//NONSGML v1.0//EN
CALSCALE:GREGORIAN
METHOD:PUBLISH
X-WR-CALNAME:LearnTelehealth
X-ORIGINAL-URL:https://learntelehealth.org
X-WR-CALDESC:Events for LearnTelehealth
REFRESH-INTERVAL;VALUE=DURATION:PT1H
X-Robots-Tag:noindex
X-PUBLISHED-TTL:PT1H
BEGIN:VTIMEZONE
TZID:UTC
BEGIN:STANDARD
TZOFFSETFROM:+0000
TZOFFSETTO:+0000
TZNAME:UTC
DTSTART:20220101T000000
END:STANDARD
END:VTIMEZONE
BEGIN:VEVENT
DTSTART;TZID=UTC:20230928T110000
DTEND;TZID=UTC:20230928T120000
DTSTAMP:20260423T181046
CREATED:20230906T165542Z
LAST-MODIFIED:20230906T165542Z
UID:10000829-1695898800-1695902400@learntelehealth.org
SUMMARY:RuralMED Webinar: 2024 ICD-10-CM & PCS Updates
DESCRIPTION:Our experts have combed through the latest ICD-10-CM & PCS updates and will provide you with all the updated guidelines and the new\, revised\, and deleted codes. \nMake sure you are ready for when these updates go into effect on October 1st by grabbing a fresh cup of your favorite brew and attending our upcoming 2024 ICD-10-CM & PCS Update Webinar! \nAttendees will come away with the knowledge to ensure coding compliance and accuracy to maximize reimbursement. \n 
URL:https://learntelehealth.org/event/ruralmed-webinar-2024-icd-10-cm-pcs-updates/
CATEGORIES:Webinar
ATTACH;FMTTYPE=image/png:https://learntelehealth.org/wp-content/uploads/2024/02/ICD-10_-Event-Header2-2048x683-1.png
END:VEVENT
BEGIN:VEVENT
DTSTART;TZID=UTC:20230928T110000
DTEND;TZID=UTC:20230928T123000
DTSTAMP:20260423T181046
CREATED:20230821T235942Z
LAST-MODIFIED:20230821T235942Z
UID:10000827-1695898800-1695904200@learntelehealth.org
SUMMARY:2024 ICD-10-CM & PCS Updates by RuralMED
DESCRIPTION:The 2024 ICD-10-CM & PCS Updates are here! \nOur experts have combed through the latest ICD-10-CM & PCS updates and will provide you with all the updated guidelines and the new\, revised\, and deleted codes. \nMake sure you are ready for when these updates go into effect on October 1st by grabbing a fresh cup of your favorite brew and attending our upcoming 2024 ICD-10-CM & PCS Update Webinar! \nAttendees will come away with the knowledge to ensure coding compliance and accuracy to maximize reimbursement. \n  \nDate: Thursday\, September 28th\, 2023\nTime: 11:00 a.m. CST – 12:30 p.m. CST\nCost: $99\n   \nWho Should Attend?:\n\nPractice Managers\nOffice Managers\nCoders\nCoding Directors\nBilling Managers\nBilling Directors\nBillers\nRevenue Cycle Managers\nHIM Department Directors\nPhysician Educators\n\n  \nSession Agendas:\n2024 ICD-10-CM Updates Section: \n\nNew\, revised\, and deleted codes for 2024\n395 new\, 25 revised\, and 13 deleted codes\nNew codes for Parkinson’s disease\nOver 100 new external cause codes\nUpdates to the ICD-10-CM Guidelines\nLive Q&A\n\n2024 ICD-10-PCS Updates Section: \n\nUpdates to the 2024 ICD-10-PCS Guidelines\nNew and deleted ICD-10-PCS codes\n78 new codes\, 5 code deletions\, and 14 revised codes\nUpdated tabular revisions\nLive Q&A\n\n  \nAbout the Presenter:\nSamantha Monahan\, COC\, CAH-CBS\, Coding Manager / Certified Coding Auditor & Educator \nSamantha has more than 20 years of experience in healthcare\, working in administration\, education\, reimbursement\, billing\, and coding sectors. In addition to being an auditor and consultant\, she enjoys sharing her knowledge and experience as an active AAPC advocate and has been a featured speaker for the AAPC\, 3M\, and other healthcare organizations. She is actively involved with the AAPC and has held the offices of secretary-treasurer and president in her local chapters. \nSamantha’s Passion: \n“I love that I have found my “purpose” at ruralMED. Each day\, I have the opportunity to assist the clients we work with in numerous ways—whether it be through our coding audit services or educational workshops. I get the opportunity to be a part of our client’s growth in their knowledge\, revenue\, and service to their patients. I am so thankful I get the opportunity to make an impact on an individual level\, as well as an organizational level with our clients. I am so humbled to be a small part of their excellence!“
URL:https://learntelehealth.org/event/2024-icd-10-cm-pcs-updates-by-ruralmed/
LOCATION:VIRTUAL\, United States
END:VEVENT
END:VCALENDAR