BEGIN:VCALENDAR
VERSION:2.0
PRODID:-//LearnTelehealth - ECPv6.15.13.1//NONSGML v1.0//EN
CALSCALE:GREGORIAN
METHOD:PUBLISH
X-WR-CALNAME:LearnTelehealth
X-ORIGINAL-URL:https://learntelehealth.org
X-WR-CALDESC:Events for LearnTelehealth
REFRESH-INTERVAL;VALUE=DURATION:PT1H
X-Robots-Tag:noindex
X-PUBLISHED-TTL:PT1H
BEGIN:VTIMEZONE
TZID:UTC
BEGIN:STANDARD
TZOFFSETFROM:+0000
TZOFFSETTO:+0000
TZNAME:UTC
DTSTART:20220101T000000
END:STANDARD
END:VTIMEZONE
BEGIN:VEVENT
DTSTART;VALUE=DATE:20230917
DTEND;VALUE=DATE:20230924
DTSTAMP:20260423T181048
CREATED:20230711T222648Z
LAST-MODIFIED:20240224T052406Z
UID:10000823-1694908800-1695513599@learntelehealth.org
SUMMARY:ATA Telehealth Awareness Week
DESCRIPTION:Save the Date! The American Telemedicine Association’s (ATA) 3rd annual Telehealth Awareness Week™\, taking place September 17-23\, 2023\, will showcase the many ways virtual care improves access to quality healthcare services for all individuals. Explore this site to see highlights from Telehealth Awareness Week 2023.
URL:https://learntelehealth.org/event/ata-telehealth-awareness-week/
CATEGORIES:Meetings & Conferences
ATTACH;FMTTYPE=image/png:https://learntelehealth.org/wp-content/uploads/2024/02/TAW-Logo-1.png
END:VEVENT
BEGIN:VEVENT
DTSTART;TZID=UTC:20230919T130000
DTEND;TZID=UTC:20230922T133000
DTSTAMP:20260423T181048
CREATED:20230809T214457Z
LAST-MODIFIED:20240224T052410Z
UID:10000825-1695128400-1695389400@learntelehealth.org
SUMMARY:CHCAMS 36th Annual Conference
DESCRIPTION:Join the Community Health Center Association of Mississippi for their upcoming 36th Annual Conference! \nHear from industry experts about the latest trends and policy developments and learn new strategies for success. Face-to-face networking\, exciting presentations\, and a good time is waiting for you at the Jackson Convention Complex\, September 19-22\, 2023. \nRegister Now!
URL:https://learntelehealth.org/event/chcams-36th-annual-conference/
LOCATION:Jackson Convention Complex\, 105 East Pascagoula Street\, Jackson\, MS\, 39201\, United States
CATEGORIES:Meetings & Conferences
ATTACH;FMTTYPE=image/png:https://learntelehealth.org/wp-content/uploads/2024/02/CHCAMS.png
GEO:32.2973822;-90.1878499
X-APPLE-STRUCTURED-LOCATION;VALUE=URI;X-ADDRESS=Jackson Convention Complex 105 East Pascagoula Street Jackson MS 39201 United States;X-APPLE-RADIUS=500;X-TITLE=105 East Pascagoula Street:geo:-90.1878499,32.2973822
END:VEVENT
BEGIN:VEVENT
DTSTART;TZID=UTC:20230920T100000
DTEND;TZID=UTC:20230920T110000
DTSTAMP:20260423T181048
CREATED:20220310T014711Z
LAST-MODIFIED:20220310T014711Z
UID:10000743-1695204000-1695207600@learntelehealth.org
SUMMARY:Fiber for Breakfast
DESCRIPTION:The Fiber Broadband Association is proud to announce its weekly live video series\, Fiber for Breakfast. \nFiber for Breakfast is a weekly 30-minute live video discussion hosted by our President and CEO\, Gary Bolton\, and featuring industry thought leaders on current topics that explore fiber as the critical infrastructure for 21st century communications as well as other connectivity and workplace issues presented during these challenging times. \nFiber for Breakfast will take place every Wednesday at 10am ET. Below are the registration links and recordings for each episode. For questions about Fiber for Breakfast or if you are interested in supporting and sponsoring the series\, please contact Jennifer Vassil at jvassil@fiberbroadband.org.
URL:https://learntelehealth.org/event/fiber-for-breakfast/2023-09-20/
CATEGORIES:Webinar
END:VEVENT
END:VCALENDAR