BEGIN:VCALENDAR
VERSION:2.0
PRODID:-//LearnTelehealth - ECPv6.15.13.1//NONSGML v1.0//EN
CALSCALE:GREGORIAN
METHOD:PUBLISH
X-ORIGINAL-URL:https://learntelehealth.org
X-WR-CALDESC:Events for LearnTelehealth
REFRESH-INTERVAL;VALUE=DURATION:PT1H
X-Robots-Tag:noindex
X-PUBLISHED-TTL:PT1H
BEGIN:VTIMEZONE
TZID:UTC
BEGIN:STANDARD
TZOFFSETFROM:+0000
TZOFFSETTO:+0000
TZNAME:UTC
DTSTART:20220101T000000
END:STANDARD
END:VTIMEZONE
BEGIN:VEVENT
DTSTART;VALUE=DATE:20230917
DTEND;VALUE=DATE:20230924
DTSTAMP:20260423T181208
CREATED:20230711T222648Z
LAST-MODIFIED:20240224T052406Z
UID:10000823-1694908800-1695513599@learntelehealth.org
SUMMARY:ATA Telehealth Awareness Week
DESCRIPTION:Save the Date! The American Telemedicine Association’s (ATA) 3rd annual Telehealth Awareness Week™\, taking place September 17-23\, 2023\, will showcase the many ways virtual care improves access to quality healthcare services for all individuals. Explore this site to see highlights from Telehealth Awareness Week 2023.
URL:https://learntelehealth.org/event/ata-telehealth-awareness-week/
CATEGORIES:Meetings & Conferences
ATTACH;FMTTYPE=image/png:https://learntelehealth.org/wp-content/uploads/2024/02/TAW-Logo-1.png
END:VEVENT
END:VCALENDAR