BEGIN:VCALENDAR
VERSION:2.0
PRODID:-//LearnTelehealth - ECPv6.15.13.1//NONSGML v1.0//EN
CALSCALE:GREGORIAN
METHOD:PUBLISH
X-ORIGINAL-URL:https://learntelehealth.org
X-WR-CALDESC:Events for LearnTelehealth
REFRESH-INTERVAL;VALUE=DURATION:PT1H
X-Robots-Tag:noindex
X-PUBLISHED-TTL:PT1H
BEGIN:VTIMEZONE
TZID:UTC
BEGIN:STANDARD
TZOFFSETFROM:+0000
TZOFFSETTO:+0000
TZNAME:UTC
DTSTART:20220101T000000
END:STANDARD
END:VTIMEZONE
BEGIN:VEVENT
DTSTART;VALUE=DATE:20230912
DTEND;VALUE=DATE:20230913
DTSTAMP:20260423T181208
CREATED:20230906T160258Z
LAST-MODIFIED:20230906T160258Z
UID:10000828-1694476800-1694563199@learntelehealth.org
SUMMARY:HRSA National Telehealth Conference
DESCRIPTION:HHS’s Health Resources and Services Administration (HRSA) will host a virtual National Telehealth Conference that brings public and private sector leaders together to discuss telehealth best practices. The conference will examine the importance of integrating telehealth into standard care. \nHRSA Administrator Carole Johnson and CMS Deputy Administrator Meena Seshamani\, along with telehealth experts\, are scheduled to attend. \nConference topics also include: \n\nThe adoption of telehealth and expansion of broadband connectivity to improve health equity\nUsing tele-behavioral health as a successful model for integrating telehealth into the standard of care\nTelehealth’s role in supporting the health care workforce and expanding services for patients\n\n\nImplications of health policy to inform telehealth’s future in an evolving health care environment
URL:https://learntelehealth.org/event/hrsa-national-telehealth-conference/
CATEGORIES:Meetings & Conferences,Webinar
ATTACH;FMTTYPE=image/png:https://learntelehealth.org/wp-content/uploads/2024/02/Telehealth-Conferenc_2000x1830px.png
END:VEVENT
END:VCALENDAR