BEGIN:VCALENDAR
VERSION:2.0
PRODID:-//LearnTelehealth - ECPv6.15.13.1//NONSGML v1.0//EN
CALSCALE:GREGORIAN
METHOD:PUBLISH
X-WR-CALNAME:LearnTelehealth
X-ORIGINAL-URL:https://learntelehealth.org
X-WR-CALDESC:Events for LearnTelehealth
REFRESH-INTERVAL;VALUE=DURATION:PT1H
X-Robots-Tag:noindex
X-PUBLISHED-TTL:PT1H
BEGIN:VTIMEZONE
TZID:UTC
BEGIN:STANDARD
TZOFFSETFROM:+0000
TZOFFSETTO:+0000
TZNAME:UTC
DTSTART:20220101T000000
END:STANDARD
END:VTIMEZONE
BEGIN:VEVENT
DTSTART;TZID=UTC:20230711T120000
DTEND;TZID=UTC:20230711T130000
DTSTAMP:20260424T224212
CREATED:20230711T030637Z
LAST-MODIFIED:20230711T030637Z
UID:10000822-1689076800-1689080400@learntelehealth.org
SUMMARY:ATA Webinar: The Benefits of Smarter Patient Engagement
DESCRIPTION:This webinar will discuss: \n\nChanging patient expectations across an increasingly broad range of devices\, applications\, social media\, and traditional channels.\nHow a frictionless\, omnichannel approach to patient engagement delivers better outcomes by meeting patients where they are across channels\, devices and locations.\nThe new role Conversational AI can play throughout the healthcare journey. Learn how today’s no-code intelligent automation tools power patient conversations across speech\, messaging and other channels.\nBest practices to cost-effectively augment and modernize legacy systems\, delivering an improved ROI in addition to better patient experiences.\n\nClick Here to Register!\n 
URL:https://learntelehealth.org/event/ata-webinar-the-benefits-of-smarter-patient-engagement/
CATEGORIES:Webinar
END:VEVENT
END:VCALENDAR