BEGIN:VCALENDAR
VERSION:2.0
PRODID:-//LearnTelehealth - ECPv6.15.13.1//NONSGML v1.0//EN
CALSCALE:GREGORIAN
METHOD:PUBLISH
X-WR-CALNAME:LearnTelehealth
X-ORIGINAL-URL:https://learntelehealth.org
X-WR-CALDESC:Events for LearnTelehealth
REFRESH-INTERVAL;VALUE=DURATION:PT1H
X-Robots-Tag:noindex
X-PUBLISHED-TTL:PT1H
BEGIN:VTIMEZONE
TZID:UTC
BEGIN:STANDARD
TZOFFSETFROM:+0000
TZOFFSETTO:+0000
TZNAME:UTC
DTSTART:20220101T000000
END:STANDARD
END:VTIMEZONE
BEGIN:VEVENT
DTSTART;TZID=UTC:20230710T080000
DTEND;TZID=UTC:20230710T233000
DTSTAMP:20260424T181710
CREATED:20230529T022428Z
LAST-MODIFIED:20230529T022428Z
UID:10000816-1688976000-1689031800@learntelehealth.org
SUMMARY:SEARCH 2023 Call for Abstracts Close!
DESCRIPTION:SEARCH 2023 provides a unique opportunity to share research in a collegial\, unbiased\, neutral environment with new and experienced researchers from across the country. Submissions and attendees include: Researchers\, Administrators\, Project Managers\, Faculty\, IT/Technology\, Healthcare Professionals and Policymakers. The goal is to showcase connected health efforts and strategies and to build partnerships that focus on research in telehealth\, digital health\, and other healthcare technologies. \nCall for Abstracts Open until July 10! \nJust in case\, if you\, your team\, or other research colleagues would be interested in submitting a specific project abstract for consideration\, the SEARCH 2023 Call for Research Abstracts is open until July 10. \nAbstracts are blind reviewed and then selected for Poster and Oral Presentations as well as for featured and educational sessions. Abstracts which include a cardiothoracic focus may also be considered by the American Heart Association for their Scientific Sessions event immediately following the SEARCH 2023 event. \nThis is the link for additional details and guidance for abstract submissions: https://searchsociety.org/search2023/abstracts/# \nAbstracts will be selected for Poster and Oral Presentations. Focus categories include\, but are not limited to: Research\, Policy\, Education\, Administration\, and State of the Art. Priority will be given to abstracts that demonstrate measurable improvement in policy or practice\, have rigorous methodological approaches\, and/or show innovation in advancing the field. \nSubmissions are due July 10\, 2023 at 11:59pm CT.
URL:https://learntelehealth.org/event/search-2023-the-national-telehealth-research-symposium-call-for-abstracts-open/
LOCATION:Online
CATEGORIES:Important Date
ATTACH;FMTTYPE=image/jpeg:https://learntelehealth.org/wp-content/uploads/2024/02/474929681-scaled-1.jpg
ORGANIZER;CN="Society for Education and the Advancement of Research in Connected Health":MAILTO:info@searchsociety.org
END:VEVENT
END:VCALENDAR