BEGIN:VCALENDAR
VERSION:2.0
PRODID:-//LearnTelehealth - ECPv6.15.13.1//NONSGML v1.0//EN
CALSCALE:GREGORIAN
METHOD:PUBLISH
X-WR-CALNAME:LearnTelehealth
X-ORIGINAL-URL:https://learntelehealth.org
X-WR-CALDESC:Events for LearnTelehealth
REFRESH-INTERVAL;VALUE=DURATION:PT1H
X-Robots-Tag:noindex
X-PUBLISHED-TTL:PT1H
BEGIN:VTIMEZONE
TZID:UTC
BEGIN:STANDARD
TZOFFSETFROM:+0000
TZOFFSETTO:+0000
TZNAME:UTC
DTSTART:20220101T000000
END:STANDARD
END:VTIMEZONE
BEGIN:VEVENT
DTSTART;TZID=UTC:20230628T100000
DTEND;TZID=UTC:20230628T110000
DTSTAMP:20260424T150021
CREATED:20220310T014711Z
LAST-MODIFIED:20220310T014711Z
UID:10000731-1687946400-1687950000@learntelehealth.org
SUMMARY:Fiber for Breakfast
DESCRIPTION:The Fiber Broadband Association is proud to announce its weekly live video series\, Fiber for Breakfast. \nFiber for Breakfast is a weekly 30-minute live video discussion hosted by our President and CEO\, Gary Bolton\, and featuring industry thought leaders on current topics that explore fiber as the critical infrastructure for 21st century communications as well as other connectivity and workplace issues presented during these challenging times. \nFiber for Breakfast will take place every Wednesday at 10am ET. Below are the registration links and recordings for each episode. For questions about Fiber for Breakfast or if you are interested in supporting and sponsoring the series\, please contact Jennifer Vassil at jvassil@fiberbroadband.org.
URL:https://learntelehealth.org/event/fiber-for-breakfast/2023-06-28/
CATEGORIES:Webinar
END:VEVENT
BEGIN:VEVENT
DTSTART;TZID=UTC:20230628T150000
DTEND;TZID=UTC:20230628T170000
DTSTAMP:20260424T150021
CREATED:20230610T014947Z
LAST-MODIFIED:20230610T014947Z
UID:10000819-1687964400-1687971600@learntelehealth.org
SUMMARY:Pediatric Telehealth Post-Pandemic: Creating A Path Forward Webinar
DESCRIPTION:Join the SPROUT-CTSA Collaborative Telehealth Research Network on Wednesday\, June 28th from 3-5 pm EST for the Pediatric Telehealth Post-Pandemic: Creating A Path Forward Webinar \nThe 2-hr webinar will feature 2 brief presentations on lessons learned during the pandemic and the impact of the end of the public health emergency on pediatric telehealth followed by a series of panel discussions addressing health equity\, education\, and a research agenda to support evidence-based best practices\, inform policy\, and support a value-driven reimbursement model.  Please see the attached flyer for more information. We hope you will be able to attend this informative event. \nAdvanced registration is required for this event.  Please click the link below to register: \nhttps://zoom.us/webinar/register/WN_13gTxkxqSCG1cJp80YbQGw \nAfter registering\, you will receive a confirmation email containing information about joining the webinar. \nSpeakers and Panelists:   \n\nChristina Olson\, MD\, Telehealth Medical Director and Hospitalist at Children’s Hospital Colorado\, Associate Professor within the Department of Pediatrics at University of Colorado\nBrooke McSwain\, Sc.\, RRT\, M.A.\, National Policy Research Analyst\, Digital Health\, Public Health Infrastructure\, Systems of Care\, Stroke\, Policy Advisor within the Center for Health Technology & Innovation\, Policy Advisor for AHA Telehealth at the American Heart Association\, Department of Policy Research and Advocacy\nKristin Ray\, MD\, MS FAAP\, Associate Professor of Pediatrics\, Director of Health Systems Improvement at UPMC Children’s Community Pediatrics\, Affiliated Faculty within the Health Policy Institute\, University of Pittsburgh\, Program Director for the General Academic Pediatrics Research Fellowship\nDana Schinasi\, MD\, Medical Director of Digital Health\, Chief Medical Informatics Officer\, Attending Physician in Emergency Medicine at Ann and Robert H. Lurie Children’s Hospital of Chicago\, Associate Professor of Pediatrics (Emergency Medicine) at Northwestern University School of Medicine\nKevin Wiley\, PhD\, MPH\, Assistant Professor in the Department of Healthcare Leadership and Management at the Medical University of South Carolina\, Leadership Fellow NIH AIM-AHEAD Consortium\nDavid Gray\, Director of Government Relations and Connected Health Policy at HIMSS\nRagan Dubose-Morris\, PhD\, Associate Professor in the College of Academic Affairs\, Director of Telehealth Education within the Center for Telehealth at the Medical University of South Carolina.\n\nPlease email Christina Coleman\, SPROUT-CTSA Program Manager\, christina_coleman@med.unc.edu with your questions.
URL:https://learntelehealth.org/event/pediatric-telehealth-post-pandemic-creating-a-path-forward-webinar/
CATEGORIES:Webinar
END:VEVENT
END:VCALENDAR