BEGIN:VCALENDAR
VERSION:2.0
PRODID:-//LearnTelehealth - ECPv6.15.13.1//NONSGML v1.0//EN
CALSCALE:GREGORIAN
METHOD:PUBLISH
X-WR-CALNAME:LearnTelehealth
X-ORIGINAL-URL:https://learntelehealth.org
X-WR-CALDESC:Events for LearnTelehealth
REFRESH-INTERVAL;VALUE=DURATION:PT1H
X-Robots-Tag:noindex
X-PUBLISHED-TTL:PT1H
BEGIN:VTIMEZONE
TZID:UTC
BEGIN:STANDARD
TZOFFSETFROM:+0000
TZOFFSETTO:+0000
TZNAME:UTC
DTSTART:20220101T000000
END:STANDARD
END:VTIMEZONE
BEGIN:VEVENT
DTSTART;TZID=UTC:20230613T100000
DTEND;TZID=UTC:20230613T110000
DTSTAMP:20260424T181706
CREATED:20230517T232440Z
LAST-MODIFIED:20230517T232440Z
UID:10000813-1686650400-1686654000@learntelehealth.org
SUMMARY:The Next Wave of Emergency Preparedness in Healthcare
DESCRIPTION:This webinar will focus on three priority areas that healthcare leaders must address to prepare\, respond to\, and recover from future public health emergencies: strengthening cross-sector partnerships\, building workforce capacity and resilience\, and fostering a culture of preparedness. We will focus on the findings of the Convening Leaders for Emergency and Response (CLEAR) Field Guide. The field guide is a road map offering four common emergency management objectives that healthcare and public health partners should prioritize together along with tangible strategies\, real-world examples\, resources\, and action steps.
URL:https://learntelehealth.org/event/the-next-wave-of-emergency-preparedness-in-healthcare/
CATEGORIES:Webinar
ORGANIZER;CN="Mississippi Hospital Association":MAILTO:srossi@mhanet.org
END:VEVENT
END:VCALENDAR