BEGIN:VCALENDAR
VERSION:2.0
PRODID:-//LearnTelehealth - ECPv6.15.13.1//NONSGML v1.0//EN
CALSCALE:GREGORIAN
METHOD:PUBLISH
X-WR-CALNAME:LearnTelehealth
X-ORIGINAL-URL:https://learntelehealth.org
X-WR-CALDESC:Events for LearnTelehealth
REFRESH-INTERVAL;VALUE=DURATION:PT1H
X-Robots-Tag:noindex
X-PUBLISHED-TTL:PT1H
BEGIN:VTIMEZONE
TZID:UTC
BEGIN:STANDARD
TZOFFSETFROM:+0000
TZOFFSETTO:+0000
TZNAME:UTC
DTSTART:20220101T000000
END:STANDARD
END:VTIMEZONE
BEGIN:VEVENT
DTSTART;TZID=UTC:20230330T140000
DTEND;TZID=UTC:20230330T150000
DTSTAMP:20260424T224138
CREATED:20230310T235907Z
LAST-MODIFIED:20240224T052312Z
UID:10000800-1680184800-1680188400@learntelehealth.org
SUMMARY:ARC Broadband Bootcamp
DESCRIPTION:Many local leaders across Appalachia have had significant broadband work added to their plates recently. If it feels like you have been asked to become a broadband expert overnight — we’re here to help. Understanding the vast array of broadband funding opportunities available\, and knowing how to navigate the partnerships and strategies required to ensure your community is served doesn’t need to be your job alone. \n\n\nThe Appalachian Regional Commission\, in partnership with the National Broadband Resource Hub\, is offering a Zoom-in broadband bootcamp of one-hour sessions over six weeks that will cover everything about broadband that local leaders need to know. Each session will also have plenty of time for people to ask questions of the broadband experts specific to their community’s unique situation. \n\n\nThe sessions will cover foundational broadband knowledge\, an overview of the typical broadband planning process\, funding and financing\, partnership structures and strategies\, broadband mapping and data\, as well as digital inclusion. \n\n\nAttendees just need to register once to attend any or all of the sessions.
URL:https://learntelehealth.org/event/arc-broadband-bootcamp-2/
LOCATION:Webinar
CATEGORIES:Webinar
ATTACH;FMTTYPE=image/jpeg:https://learntelehealth.org/wp-content/uploads/2024/02/Appalachian-Regional-Commission-ARC-vertical.jpg
END:VEVENT
END:VCALENDAR