BEGIN:VCALENDAR
VERSION:2.0
PRODID:-//LearnTelehealth - ECPv6.15.13.1//NONSGML v1.0//EN
CALSCALE:GREGORIAN
METHOD:PUBLISH
X-WR-CALNAME:LearnTelehealth
X-ORIGINAL-URL:https://learntelehealth.org
X-WR-CALDESC:Events for LearnTelehealth
REFRESH-INTERVAL;VALUE=DURATION:PT1H
X-Robots-Tag:noindex
X-PUBLISHED-TTL:PT1H
BEGIN:VTIMEZONE
TZID:UTC
BEGIN:STANDARD
TZOFFSETFROM:+0000
TZOFFSETTO:+0000
TZNAME:UTC
DTSTART:20220101T000000
END:STANDARD
END:VTIMEZONE
BEGIN:VEVENT
DTSTART;TZID=UTC:20230326T080000
DTEND;TZID=UTC:20230329T170000
DTSTAMP:20260424T224140
CREATED:20230313T214152Z
LAST-MODIFIED:20230313T214152Z
UID:10000802-1679817600-1680109200@learntelehealth.org
SUMMARY:ViVE 2023
DESCRIPTION:Building upon the successful launch in 2022\, ViVE is poised to deliver another unforgettable event experience around healthcare IT innovation and business transformation. \nTaking place over the course of 4 days in Nashville\, ViVE will convene senior and executive leaders in the digital healthcare space and provide an enjoyable engagement environment to drive growth opportunities through curated connections\, personalized attendee journeys\, and progressive programming.
URL:https://learntelehealth.org/event/vive-2023/
LOCATION:Music City Center\, Nashville\, TN
CATEGORIES:Meetings & Conferences
END:VEVENT
BEGIN:VEVENT
DTSTART;TZID=UTC:20230329T100000
DTEND;TZID=UTC:20230329T110000
DTSTAMP:20260424T224140
CREATED:20220310T014711Z
LAST-MODIFIED:20220310T014711Z
UID:10000718-1680084000-1680087600@learntelehealth.org
SUMMARY:Fiber for Breakfast
DESCRIPTION:The Fiber Broadband Association is proud to announce its weekly live video series\, Fiber for Breakfast. \nFiber for Breakfast is a weekly 30-minute live video discussion hosted by our President and CEO\, Gary Bolton\, and featuring industry thought leaders on current topics that explore fiber as the critical infrastructure for 21st century communications as well as other connectivity and workplace issues presented during these challenging times. \nFiber for Breakfast will take place every Wednesday at 10am ET. Below are the registration links and recordings for each episode. For questions about Fiber for Breakfast or if you are interested in supporting and sponsoring the series\, please contact Jennifer Vassil at jvassil@fiberbroadband.org.
URL:https://learntelehealth.org/event/fiber-for-breakfast/2023-03-29/
CATEGORIES:Webinar
END:VEVENT
END:VCALENDAR