BEGIN:VCALENDAR
VERSION:2.0
PRODID:-//LearnTelehealth - ECPv6.15.13.1//NONSGML v1.0//EN
CALSCALE:GREGORIAN
METHOD:PUBLISH
X-WR-CALNAME:LearnTelehealth
X-ORIGINAL-URL:https://learntelehealth.org
X-WR-CALDESC:Events for LearnTelehealth
REFRESH-INTERVAL;VALUE=DURATION:PT1H
X-Robots-Tag:noindex
X-PUBLISHED-TTL:PT1H
BEGIN:VTIMEZONE
TZID:UTC
BEGIN:STANDARD
TZOFFSETFROM:+0000
TZOFFSETTO:+0000
TZNAME:UTC
DTSTART:20220101T000000
END:STANDARD
END:VTIMEZONE
BEGIN:VEVENT
DTSTART;TZID=UTC:20230209T120000
DTEND;TZID=UTC:20230209T130000
DTSTAMP:20260424T224229
CREATED:20230201T021946Z
LAST-MODIFIED:20230201T021946Z
UID:10000790-1675944000-1675947600@learntelehealth.org
SUMMARY:Telehealth Roundup:  SCTRC Region Broadband Update
DESCRIPTION:Representatives from Arkansas\, Tennessee\, and Mississippi will discuss the broadband situation in their respective states. Registration link below.\n\nRegister in advance for this webinar:\n\nhttps://uams.zoom.us/webinar/register/WN_gC8JRuXmQgq3tYoXtpvr4A\nAfter registering\, you will receive a confirmation email containing information about joining the webinar.
URL:https://learntelehealth.org/event/telehealth-roundup-sctrc-region-broadband-update/
LOCATION:Webinar
CATEGORIES:Webinar
ATTACH;FMTTYPE=image/jpeg:https://learntelehealth.org/wp-content/uploads/2024/02/GettyImages-1368036451-1.jpg
END:VEVENT
END:VCALENDAR