BEGIN:VCALENDAR
VERSION:2.0
PRODID:-//LearnTelehealth - ECPv6.15.13.1//NONSGML v1.0//EN
CALSCALE:GREGORIAN
METHOD:PUBLISH
X-WR-CALNAME:LearnTelehealth
X-ORIGINAL-URL:https://learntelehealth.org
X-WR-CALDESC:Events for LearnTelehealth
REFRESH-INTERVAL;VALUE=DURATION:PT1H
X-Robots-Tag:noindex
X-PUBLISHED-TTL:PT1H
BEGIN:VTIMEZONE
TZID:UTC
BEGIN:STANDARD
TZOFFSETFROM:+0000
TZOFFSETTO:+0000
TZNAME:UTC
DTSTART:20210101T000000
END:STANDARD
END:VTIMEZONE
BEGIN:VEVENT
DTSTART;TZID=UTC:20220913T080000
DTEND;TZID=UTC:20220914T170000
DTSTAMP:20260425T205910
CREATED:20220411T220827Z
LAST-MODIFIED:20240224T052203Z
UID:10000766-1663056000-1663174800@learntelehealth.org
SUMMARY:4th Annual UMTRC Telehealth Conference
DESCRIPTION:Make Plans now for the 4th Annual UMTRC Telehealth Conference!  \n“Telehealth Insights: Workforce\, Policy\, and Beyond” \nWe are looking forward to our 4th Annual UMTRC Telehealth Conference which will be held September 13-14\, 2022!\nThe conference will be held at the Gillespie Conference Center in South Bend\, IN.
URL:https://learntelehealth.org/event/4th-annual-umtrc-telehealth-conference/
LOCATION:Gillespie Conference Center\, 53995 IN-933\, South Bend\, IN\, United States
CATEGORIES:Meetings & Conferences
ATTACH;FMTTYPE=image/png:https://learntelehealth.org/wp-content/uploads/2024/02/UMTRC_AC_logo_2022.png
END:VEVENT
END:VCALENDAR