BEGIN:VCALENDAR
VERSION:2.0
PRODID:-//LearnTelehealth - ECPv6.15.13.1//NONSGML v1.0//EN
CALSCALE:GREGORIAN
METHOD:PUBLISH
X-ORIGINAL-URL:https://learntelehealth.org
X-WR-CALDESC:Events for LearnTelehealth
REFRESH-INTERVAL;VALUE=DURATION:PT1H
X-Robots-Tag:noindex
X-PUBLISHED-TTL:PT1H
BEGIN:VTIMEZONE
TZID:America/Chicago
BEGIN:DAYLIGHT
TZOFFSETFROM:-0600
TZOFFSETTO:-0500
TZNAME:CDT
DTSTART:20210314T080000
END:DAYLIGHT
BEGIN:STANDARD
TZOFFSETFROM:-0500
TZOFFSETTO:-0600
TZNAME:CST
DTSTART:20211107T070000
END:STANDARD
BEGIN:DAYLIGHT
TZOFFSETFROM:-0600
TZOFFSETTO:-0500
TZNAME:CDT
DTSTART:20220313T080000
END:DAYLIGHT
BEGIN:STANDARD
TZOFFSETFROM:-0500
TZOFFSETTO:-0600
TZNAME:CST
DTSTART:20221106T070000
END:STANDARD
BEGIN:DAYLIGHT
TZOFFSETFROM:-0600
TZOFFSETTO:-0500
TZNAME:CDT
DTSTART:20230312T080000
END:DAYLIGHT
BEGIN:STANDARD
TZOFFSETFROM:-0500
TZOFFSETTO:-0600
TZNAME:CST
DTSTART:20231105T070000
END:STANDARD
END:VTIMEZONE
BEGIN:VEVENT
DTSTART;TZID=America/Chicago:20220908T140000
DTEND;TZID=America/Chicago:20220908T150000
DTSTAMP:20260425T210752
CREATED:20220203T020727Z
LAST-MODIFIED:20220203T020727Z
UID:10000652-1662645600-1662649200@learntelehealth.org
SUMMARY:Data Access and Cross Tabulation Using MDAT
DESCRIPTION:The 2022 Back to Data Basics Webinar Series \nIf you are looking to improve your data skills\, Back to Data Basics is a great opportunity to learn from our experts about how to access and utilize a variety of Census Bureau data products\, tools\, and resources. \nEach webinar will give you foundational information and skills necessary to work with data from the Census Bureau. The series will offer 2-4 webinars every month until September 2022. All classes are free and open to the public. Registration is limited and will be available on a first-come first-served basis. \n\n\n\n\nLearn how to access American Community Survey and Current Population Survey Public Use Microdata Sample (PUMS) files\, and customize tables using data.census.gov/mdat (MDAT). Participants will also learn how to cross-tabulate and modify variables to fulfill specific requirements of a project. Using the MDAT tool\, you can develop an unlimited array of customized spreadsheets that are as versatile and complex as your usage demands.
URL:https://learntelehealth.org/event/data-access-and-cross-tabulation-using-mdat/
CATEGORIES:Webinar
END:VEVENT
END:VCALENDAR