BEGIN:VCALENDAR
VERSION:2.0
PRODID:-//LearnTelehealth - ECPv6.15.13.1//NONSGML v1.0//EN
CALSCALE:GREGORIAN
METHOD:PUBLISH
X-ORIGINAL-URL:https://learntelehealth.org
X-WR-CALDESC:Events for LearnTelehealth
REFRESH-INTERVAL;VALUE=DURATION:PT1H
X-Robots-Tag:noindex
X-PUBLISHED-TTL:PT1H
BEGIN:VTIMEZONE
TZID:America/Chicago
BEGIN:DAYLIGHT
TZOFFSETFROM:-0600
TZOFFSETTO:-0500
TZNAME:CDT
DTSTART:20210314T080000
END:DAYLIGHT
BEGIN:STANDARD
TZOFFSETFROM:-0500
TZOFFSETTO:-0600
TZNAME:CST
DTSTART:20211107T070000
END:STANDARD
BEGIN:DAYLIGHT
TZOFFSETFROM:-0600
TZOFFSETTO:-0500
TZNAME:CDT
DTSTART:20220313T080000
END:DAYLIGHT
BEGIN:STANDARD
TZOFFSETFROM:-0500
TZOFFSETTO:-0600
TZNAME:CST
DTSTART:20221106T070000
END:STANDARD
BEGIN:DAYLIGHT
TZOFFSETFROM:-0600
TZOFFSETTO:-0500
TZNAME:CDT
DTSTART:20230312T080000
END:DAYLIGHT
BEGIN:STANDARD
TZOFFSETFROM:-0500
TZOFFSETTO:-0600
TZNAME:CST
DTSTART:20231105T070000
END:STANDARD
END:VTIMEZONE
BEGIN:VEVENT
DTSTART;TZID=America/Chicago:20220901T140000
DTEND;TZID=America/Chicago:20220901T150000
DTSTAMP:20260425T210750
CREATED:20220203T020643Z
LAST-MODIFIED:20220203T020643Z
UID:10000651-1662040800-1662044400@learntelehealth.org
SUMMARY:The American Community Survey: A Comprehensive Look
DESCRIPTION:The 2022 Back to Data Basics Webinar Series \nIf you are looking to improve your data skills\, Back to Data Basics is a great opportunity to learn from our experts about how to access and utilize a variety of Census Bureau data products\, tools\, and resources. \nEach webinar will give you foundational information and skills necessary to work with data from the Census Bureau. The series will offer 2-4 webinars every month until September 2022. All classes are free and open to the public. Registration is limited and will be available on a first-come first-served basis. \n\n\n\n\nDiscover the detailed social\, economic\, and housing statistics that the American Community Survey (ACS) provides for every community every year and learn the differences between the ACS and the Decennial Census. You will learn about basics of the yearly estimates and datasets produced from the ACS\, resources available on our website\, and how to access ACS data products through a variety of tools.
URL:https://learntelehealth.org/event/the-american-community-survey-a-comprehensive-look/
CATEGORIES:Webinar
END:VEVENT
END:VCALENDAR